BEGIN:VCALENDAR
VERSION:2.0
PRODID:-//Gamla Kraftstationen i Deje - ECPv6.11.0.1//NONSGML v1.0//EN
CALSCALE:GREGORIAN
METHOD:PUBLISH
X-WR-CALNAME:Gamla Kraftstationen i Deje
X-ORIGINAL-URL:https://gamlakraftstationen.se
X-WR-CALDESC:Händelser för Gamla Kraftstationen i Deje
REFRESH-INTERVAL;VALUE=DURATION:PT1H
X-Robots-Tag:noindex
X-PUBLISHED-TTL:PT1H
BEGIN:VTIMEZONE
TZID:Europe/Paris
BEGIN:DAYLIGHT
TZOFFSETFROM:+0100
TZOFFSETTO:+0200
TZNAME:CEST
DTSTART:20240331T010000
END:DAYLIGHT
BEGIN:STANDARD
TZOFFSETFROM:+0200
TZOFFSETTO:+0100
TZNAME:CET
DTSTART:20241027T010000
END:STANDARD
END:VTIMEZONE
BEGIN:VEVENT
DTSTART;TZID=Europe/Paris:20240516T180000
DTEND;TZID=Europe/Paris:20240516T193000
DTSTAMP:20260422T122805
CREATED:20240507T203730Z
LAST-MODIFIED:20240507T203730Z
UID:7928-1715882400-1715887800@gamlakraftstationen.se
SUMMARY:Boksläpp: Mitt liv som Värmlands sämsta löpare
DESCRIPTION:FESTLIG PREMIÄR FÖR SVEN-OVE SVENSSONS NYA BOKMitt liv som Värmlands sämsta löpare.\n\nTORSDAG 16 MAJ KL 18.00 GAMLA KRAFTSTATIONEN\n\nEfter ett liv som löpmotionär har Sven-Ove skrivit en inspirerande tänkebok för nybörjare\, endorfinjägare och gatuplockare. Kondition är fötter som vill i väg och lungor som håller med.\nHar du tagit minst ett löpsteg i livet? Då har du chansen att vinna en bok.Kom! Vi har hört att ho’ ä’ bra.Välkommen till en afton med lite humor och lite allvar!\n\nEntré 80 kr(samma som till konsthallen)eller fritt för dig som har Lilla eller Stora Kretskortet.\n\nIngen förbokning men obligatorisk incheckning i receptionen vid ankomst.\nKonsthallarna & shopen är öppen.\n\nCulinarum Café erbjuder kaffe & kvällsmacka.Beställ i receptionen när du checkar in.\n\nFrågor: info@gamlakraftstationen.se eller 072-589 00 71
URL:https://gamlakraftstationen.se/evenemang/bokslapp-mitt-liv-som-varmlands-samsta-lopare/
LOCATION:Gamla Kraftstationen\, Bruksvägen 10E\, Deje\, 66932\, Sverige
CATEGORIES:Event
ATTACH;FMTTYPE=image/png:https://gamlakraftstationen.se/wp-content/uploads/2024/05/Bokslapp-Sven-Ove-Svensson-2024.png
ORGANIZER;CN="Gamla Kraftstationen":MAILTO:info@gamlakraftstationen.se
END:VEVENT
END:VCALENDAR