BEGIN:VCALENDAR
VERSION:2.0
PRODID:-//Gamla Kraftstationen i Deje - ECPv6.11.0.1//NONSGML v1.0//EN
CALSCALE:GREGORIAN
METHOD:PUBLISH
X-WR-CALNAME:Gamla Kraftstationen i Deje
X-ORIGINAL-URL:https://gamlakraftstationen.se
X-WR-CALDESC:Händelser för Gamla Kraftstationen i Deje
REFRESH-INTERVAL;VALUE=DURATION:PT1H
X-Robots-Tag:noindex
X-PUBLISHED-TTL:PT1H
BEGIN:VTIMEZONE
TZID:Europe/Paris
BEGIN:DAYLIGHT
TZOFFSETFROM:+0100
TZOFFSETTO:+0200
TZNAME:CEST
DTSTART:20240331T010000
END:DAYLIGHT
BEGIN:STANDARD
TZOFFSETFROM:+0200
TZOFFSETTO:+0100
TZNAME:CET
DTSTART:20241027T010000
END:STANDARD
END:VTIMEZONE
BEGIN:VEVENT
DTSTART;TZID=Europe/Paris:20240601T110000
DTEND;TZID=Europe/Paris:20240601T160000
DTSTAMP:20260422T122732
CREATED:20240417T092220Z
LAST-MODIFIED:20240417T092325Z
UID:7704-1717239600-1717257600@gamlakraftstationen.se
SUMMARY:Vernissage no.2. 1 juni
DESCRIPTION:Välkommen till säsongens andra vernissage.\n1 juni kl 11-16\n  \n\nNya utställare tillkommer: \n\nFabian Wippert träskulptur \n\n\nJenny Blom olja \n\n\nÅsa Gamgam Leanderz olja \n\nLäs mer om årets utställning här!
URL:https://gamlakraftstationen.se/evenemang/vernissage-no-2-1-juni/
LOCATION:Gamla Kraftstationen\, Bruksvägen 10E\, Deje\, 66932\, Sverige
CATEGORIES:Vernissage
ATTACH;FMTTYPE=image/png:https://gamlakraftstationen.se/wp-content/uploads/2024/03/Vernissage-1-juni.png
ORGANIZER;CN="Gamla Kraftstationen":MAILTO:info@gamlakraftstationen.se
END:VEVENT
BEGIN:VEVENT
DTSTART;TZID=Europe/Paris:20240601T120000
DTEND;TZID=Europe/Paris:20240601T150000
DTSTAMP:20260422T122732
CREATED:20240523T111018Z
LAST-MODIFIED:20240523T111018Z
UID:8010-1717243200-1717254000@gamlakraftstationen.se
SUMMARY:Mingelmusik i konsthallen: Stämma på besök
DESCRIPTION:Lördag 1 juni blir det härlig mingelmusik i konsthallen då musikkören Stämma är på besök. \nKören bjuder på stämningsfull körmusik med start kl 12\, 13 och 14. Varje set är cirka 15-20 minuter långa. \nVälkomna! \n  \nOm Stämma: \nKören Stämma startades hösten 2018 av musikinstruktören och körledaren Christina Lidén. \nTolv kvinnoröster från Karlstad sjunger ur en bred repertoar\, bland annat jazz och pop\, folkmusik och klassiskt. \nSommaren 2024 erbjuder vi programmet ”Stämma i folkton” som inrymmer alltifrån traditionell visa via polska till nyskriven folkmusik. \nFör mer info:\nwww.staemma.se
URL:https://gamlakraftstationen.se/evenemang/mingelmusik-i-konsthallen-stamma-pa-besok/
LOCATION:Gamla Kraftstationen\, Bruksvägen 10E\, Deje\, 66932\, Sverige
CATEGORIES:Event
ATTACH;FMTTYPE=image/jpeg:https://gamlakraftstationen.se/wp-content/uploads/2024/05/Stamma-musikkor.jpg
ORGANIZER;CN="Gamla Kraftstationen":MAILTO:info@gamlakraftstationen.se
END:VEVENT
END:VCALENDAR