BEGIN:VCALENDAR
VERSION:2.0
PRODID:-//Gamla Kraftstationen i Deje - ECPv6.11.0.1//NONSGML v1.0//EN
CALSCALE:GREGORIAN
METHOD:PUBLISH
X-ORIGINAL-URL:https://gamlakraftstationen.se
X-WR-CALDESC:Händelser för Gamla Kraftstationen i Deje
REFRESH-INTERVAL;VALUE=DURATION:PT1H
X-Robots-Tag:noindex
X-PUBLISHED-TTL:PT1H
BEGIN:VTIMEZONE
TZID:Europe/Paris
BEGIN:DAYLIGHT
TZOFFSETFROM:+0100
TZOFFSETTO:+0200
TZNAME:CEST
DTSTART:20240331T010000
END:DAYLIGHT
BEGIN:STANDARD
TZOFFSETFROM:+0200
TZOFFSETTO:+0100
TZNAME:CET
DTSTART:20241027T010000
END:STANDARD
END:VTIMEZONE
BEGIN:VEVENT
DTSTART;TZID=Europe/Paris:20240629T110000
DTEND;TZID=Europe/Paris:20240629T160000
DTSTAMP:20260422T140543
CREATED:20240417T092416Z
LAST-MODIFIED:20240417T092416Z
UID:7706-1719658800-1719676800@gamlakraftstationen.se
SUMMARY:Vernissage no.3. 29 juni
DESCRIPTION:Välkommen till säsongens tredje vernissage!\n29 juni kl 11-16\n  \nNya utställare tillkommer: \n\nAugust Sandström akvarell \n\n\nCarina Haglund ullkonst \n\n\nKlara Knutsson intarsia \n  \nLäs mer om årets utställning här! \n\n 
URL:https://gamlakraftstationen.se/evenemang/vernissage-no-3-29-juni/
LOCATION:Gamla Kraftstationen\, Bruksvägen 10E\, Deje\, 66932\, Sverige
CATEGORIES:Vernissage
ATTACH;FMTTYPE=image/png:https://gamlakraftstationen.se/wp-content/uploads/2024/03/Vernissage-29-juni.png
ORGANIZER;CN="Gamla Kraftstationen":MAILTO:info@gamlakraftstationen.se
END:VEVENT
END:VCALENDAR