BEGIN:VCALENDAR
VERSION:2.0
PRODID:-//Gamla Kraftstationen i Deje - ECPv6.11.0.1//NONSGML v1.0//EN
CALSCALE:GREGORIAN
METHOD:PUBLISH
X-ORIGINAL-URL:https://gamlakraftstationen.se
X-WR-CALDESC:Händelser för Gamla Kraftstationen i Deje
REFRESH-INTERVAL;VALUE=DURATION:PT1H
X-Robots-Tag:noindex
X-PUBLISHED-TTL:PT1H
BEGIN:VTIMEZONE
TZID:Europe/Paris
BEGIN:DAYLIGHT
TZOFFSETFROM:+0100
TZOFFSETTO:+0200
TZNAME:CEST
DTSTART:20240331T010000
END:DAYLIGHT
BEGIN:STANDARD
TZOFFSETFROM:+0200
TZOFFSETTO:+0100
TZNAME:CET
DTSTART:20241027T010000
END:STANDARD
END:VTIMEZONE
BEGIN:VEVENT
DTSTART;TZID=Europe/Paris:20240717T130000
DTEND;TZID=Europe/Paris:20240717T150000
DTSTAMP:20260422T153623
CREATED:20240706T142634Z
LAST-MODIFIED:20240706T143332Z
UID:8199-1721221200-1721228400@gamlakraftstationen.se
SUMMARY:Workshop: Akvarell med Håkan Engmalm
DESCRIPTION:Välkommen att anmäla dig till workshop i akvarell tillsammans med Håkan Engmalm. \nEn inspirerande workshop där teknik och material inom akvarell står i fokus. \n  \nOnsdag 17 juli kl 13-15 \nLedare: Håkan Engmalm \nKostnad: 100 kr per person. Betalning görs på plats. \nAnmälan: e-post till bokning@gamlakraftstationen.se \nAntal platser: 20 st. Först till kvarn. \nÅlder: 3-100 år \nHåkan Engmalm \n \n 
URL:https://gamlakraftstationen.se/evenemang/workshop-akvarell-med-hakan-engmalm/
LOCATION:Gamla Kraftstationen\, Bruksvägen 10E\, Deje\, 66932\, Sverige
CATEGORIES:Workshop
ATTACH;FMTTYPE=image/jpeg:https://gamlakraftstationen.se/wp-content/uploads/2024/07/Hakan-Engmalm-akvarell-workshop.jpeg
ORGANIZER;CN="Gamla Kraftstationen":MAILTO:info@gamlakraftstationen.se
END:VEVENT
END:VCALENDAR