BEGIN:VCALENDAR
VERSION:2.0
PRODID:-//Gamla Kraftstationen i Deje - ECPv6.11.0.1//NONSGML v1.0//EN
CALSCALE:GREGORIAN
METHOD:PUBLISH
X-ORIGINAL-URL:https://gamlakraftstationen.se
X-WR-CALDESC:Händelser för Gamla Kraftstationen i Deje
REFRESH-INTERVAL;VALUE=DURATION:PT1H
X-Robots-Tag:noindex
X-PUBLISHED-TTL:PT1H
BEGIN:VTIMEZONE
TZID:Europe/Paris
BEGIN:DAYLIGHT
TZOFFSETFROM:+0100
TZOFFSETTO:+0200
TZNAME:CEST
DTSTART:20240331T010000
END:DAYLIGHT
BEGIN:STANDARD
TZOFFSETFROM:+0200
TZOFFSETTO:+0100
TZNAME:CET
DTSTART:20241027T010000
END:STANDARD
END:VTIMEZONE
BEGIN:VEVENT
DTSTART;TZID=Europe/Paris:20240821T190000
DTEND;TZID=Europe/Paris:20240821T210000
DTSTAMP:20260422T184700
CREATED:20240730T124836Z
LAST-MODIFIED:20240730T142914Z
UID:8377-1724266800-1724274000@gamlakraftstationen.se
SUMMARY:Konsert: Bandverket 21 augusti
DESCRIPTION:Bandverket – ett unikt musikprojekt med egen och ny musik som blandar pop\, rock och blues. Instrumentalt varvas med sångtexter som skildrar historia\, anekdoter\, vardag och relationer i Forshaga kommuns geografi. Tillsammans med programledare Rino Rotevatn tar Bandverket med publiken på en resa i humor och allvar ut på Örten\, Lusten och Åstjärn\, men också till Hyn och Pannkakan och rätt in i en lägenhet på Europavägen.  \nBandverket är ett musikprojekt initierat av gitarristen Daniel Falck. Konserten på Gamla Kraftstationen är den första offentliga spelningen.  \nPeter Johansson\, sång & gitarr \nDaniel Falck\, gitarr \nConny Falk\, trummor \nDaniel Lundqvist\, bas \n  \nGästmusiker \nJenny Sander\, fiol \nRino Rotevatn\, säckpipa\, mm \n \nInsläpp: 18.30 \nKonsertstart: 19.00 \nSluttid: 21.00 inkluderar paus (sluttiden är ungefärlig) \nEntré: 100:- exkl. serviceavg. Biljetter köps via ticketmaster: https://www.ticketmaster.se/event/663491 \n  \nKonserten är inomhus. \nEj numrerade platser. \nIngen åldersgräns. \n  \nI pausen serveras kvällsmackor och annat gott. \nKan förbeställas i entrén vid ankomst. \n072-589 00 71\, bokning@gamlakraftstationen.se \n  \nKonserten ingår i konceptet \n”The Gamla Kraftstationen Music Club”\n– exklusiva konserter i unik industrimiljö \nwww.gamlakraftstationen.se \n 
URL:https://gamlakraftstationen.se/evenemang/konsert-bandverket-21-augusti/
LOCATION:Gamla Kraftstationen\, Bruksvägen 10E\, Deje\, 66932\, Sverige
CATEGORIES:Konsert
ATTACH;FMTTYPE=image/jpeg:https://gamlakraftstationen.se/wp-content/uploads/2024/07/Bandverket-konsert-Gamla-Kraftstationen.jpeg
ORGANIZER;CN="Gamla Kraftstationen":MAILTO:info@gamlakraftstationen.se
END:VEVENT
END:VCALENDAR