BEGIN:VCALENDAR
VERSION:2.0
PRODID:-//Gamla Kraftstationen i Deje - ECPv6.11.0.1//NONSGML v1.0//EN
CALSCALE:GREGORIAN
METHOD:PUBLISH
X-WR-CALNAME:Gamla Kraftstationen i Deje
X-ORIGINAL-URL:https://gamlakraftstationen.se
X-WR-CALDESC:Händelser för Gamla Kraftstationen i Deje
REFRESH-INTERVAL;VALUE=DURATION:PT1H
X-Robots-Tag:noindex
X-PUBLISHED-TTL:PT1H
BEGIN:VTIMEZONE
TZID:Europe/Paris
BEGIN:DAYLIGHT
TZOFFSETFROM:+0100
TZOFFSETTO:+0200
TZNAME:CEST
DTSTART:20240331T010000
END:DAYLIGHT
BEGIN:STANDARD
TZOFFSETFROM:+0200
TZOFFSETTO:+0100
TZNAME:CET
DTSTART:20241027T010000
END:STANDARD
END:VTIMEZONE
BEGIN:VEVENT
DTSTART;VALUE=DATE:20240824
DTEND;VALUE=DATE:20240826
DTSTAMP:20260422T170857
CREATED:20240417T092833Z
LAST-MODIFIED:20240823T202938Z
UID:7712-1724457600-1724630399@gamlakraftstationen.se
SUMMARY:Vernissage no.5. & Lustenrundan 24 - 25 augusti
DESCRIPTION:Välkommen till säsongens femte vernissage och årets upplaga av Lustenrundan!\n24-25 augusti kl 11-16\n  \n\n DAGS FÖR FOLKFEST 24-25 augusti när LUSTENRUNDAN går av stapeln. Förutom våra ordinarie utställningar hittar du 22 lokala konstnärer och konsthantverkare samt kreativa workshops att droppa in på och självklart en ny Lustenrundabskelse förstås! Välkommen hit!\n\n\n\nLustenrundans utställare på Gamla Kraftstationen\, ett fantastiskt startfält:\n\n\n\n Annica Röhs — måleri\, handmålade glas\, kuddar\n\n\n Aqua Tincta – akvarell\n(Valmai Backlund\, Elisabeth Magnusson\, Myrna Jönsson\, Pia Wallinder)\n\n\n Daniel Engström — måleri\n\n\n Eva Liljetun — värmländska natur- och landskapsfoton\n\n\n Gunilla Wennberg — akvarell\n\n\n Håkan Engmalm — akvarell\n\n\n LERKÄLLARN\, Kristina Andersson — keramik: kavlat\, skulpterat\, drejat\n\n\n Linda Ljunggren — akryl\, gips\, mixed media\n\n\n Margareta Mattsson — akvareller\, mixmedia och kuddfodral\n\n\n Mia Jansson — nöjdingar i keramik/raku\n\n\n Marie Klarström — akvarell och olja\, naturmotiv\n\n\n Roswitha Grundemar — måleri/akvarell\n\n\n Saga Sundström — akryl och teckning/blyerts\n\n\n Sandra Hultsved — oljemålning\, smycken och doftljus\n\n\n Sofia Sjödin — illustrationer i flytande tusch\n\n\n Sven-Åke\, SAKA\, Karlsson — akryl på duk\, abstrakt och realism\n\n\n Synnöve Orebjörk & Robin Lindström — stenskulpturer\n\n\n Therese Sundström — akryl\, akvarell\, mixed media\n\n\nÅsa Eklind — monoprint\, mixed media\, akryl\n\n\nUnder helgen pågår flera workshop i olika teman!\n\nHär kan läsa mer om Lustenrundan 
URL:https://gamlakraftstationen.se/evenemang/vernissage-no-5-24-25-augusti/
LOCATION:Gamla Kraftstationen\, Bruksvägen 10E\, Deje\, 66932\, Sverige
CATEGORIES:Vernissage
ATTACH;FMTTYPE=image/jpeg:https://gamlakraftstationen.se/wp-content/uploads/2024/04/Affisch-Lustenrundan-2024.jpeg
ORGANIZER;CN="Gamla Kraftstationen":MAILTO:info@gamlakraftstationen.se
END:VEVENT
BEGIN:VEVENT
DTSTART;TZID=Europe/Paris:20240824T110000
DTEND;TZID=Europe/Paris:20240825T160000
DTSTAMP:20260422T170857
CREATED:20240823T080904Z
LAST-MODIFIED:20240823T210842Z
UID:8457-1724497200-1724601600@gamlakraftstationen.se
SUMMARY:Lustenrundan workshop: Prova att väva med Kraftstationens makers
DESCRIPTION:Välkommen att prova på att väva på plats hos oss på Gamla Kraftstationen och Kraftstationens makers! \nDrop in under lördag och söndag 24 – 25 augusti kl 11-16 \nLedare: Kajsa Andersson & Lena Andersson m.fl.
URL:https://gamlakraftstationen.se/evenemang/lustenrundan-workshop-prova-att-vava-med-kraftstationens-makers/
LOCATION:Gamla Kraftstationen\, Bruksvägen 10E\, Deje\, 66932\, Sverige
CATEGORIES:Workshop
ATTACH;FMTTYPE=image/jpeg:https://gamlakraftstationen.se/wp-content/uploads/2024/08/vavning-Gamla-Kraftstationen.jpg
ORGANIZER;CN="Gamla Kraftstationen":MAILTO:info@gamlakraftstationen.se
END:VEVENT
BEGIN:VEVENT
DTSTART;TZID=Europe/Paris:20240824T120000
DTEND;TZID=Europe/Paris:20240825T160000
DTSTAMP:20260422T170857
CREATED:20240823T080252Z
LAST-MODIFIED:20240823T080252Z
UID:8454-1724500800-1724601600@gamlakraftstationen.se
SUMMARY:Lustenrundan workshop: Gelliprinting med utställare Åsa Eklind
DESCRIPTION:Välkommen på workshop i gelliprinting (monoprint) tillsammans med utställare Åsa Eklind! \nGelliprinting är en tryckteknik där du använder en platta av gelé och t.ex. akrylfärg för att skapa unika tryck\, främst på papper.  \nLedare: Konstnär Åsa Eklind \nIngen anmälan\, men kom i tid! \nLördag och söndag 24 – 25 augusti. Starttid kl. 12.00 & kl. 14.00 \nIngen kostnad \n\nÅsa tar med material\, färg och verktyg \nMax 7 personer samtidigt \n 
URL:https://gamlakraftstationen.se/evenemang/lustenrundan-workshop-gelliprinting-med-utstallare-asa-eklind/
LOCATION:Gamla Kraftstationen\, Bruksvägen 10E\, Deje\, 66932\, Sverige
CATEGORIES:Workshop
ATTACH;FMTTYPE=image/jpeg:https://gamlakraftstationen.se/wp-content/uploads/2024/08/gelli-printing.jpeg
ORGANIZER;CN="Gamla Kraftstationen":MAILTO:info@gamlakraftstationen.se
END:VEVENT
BEGIN:VEVENT
DTSTART;TZID=Europe/Paris:20240825T110000
DTEND;TZID=Europe/Paris:20240825T130000
DTSTAMP:20260422T170857
CREATED:20240823T203209Z
LAST-MODIFIED:20240823T211146Z
UID:8461-1724583600-1724590800@gamlakraftstationen.se
SUMMARY:Lustenrundan: LIVE rakubränning med Mia Jansson\, Miasraku
DESCRIPTION:Välkommen på drop in av live rakubränning med utställare Mia Jansson\, Miasraku \nSöndag 25 augusti kl 11-13 \nUtomhus utanför annexet på Gamla Kraftstationens kulturområde \n 
URL:https://gamlakraftstationen.se/evenemang/lustenrundan-live-rakubranning-med-mia-jansson-miasraku/
LOCATION:Gamla Kraftstationen\, Bruksvägen 10E\, Deje\, 66932\, Sverige
CATEGORIES:Event
ATTACH;FMTTYPE=image/jpeg:https://gamlakraftstationen.se/wp-content/uploads/2021/11/Mia-Jansson-bla-nojding.jpg
ORGANIZER;CN="Gamla Kraftstationen":MAILTO:info@gamlakraftstationen.se
END:VEVENT
BEGIN:VEVENT
DTSTART;TZID=Europe/Paris:20240825T140000
DTEND;TZID=Europe/Paris:20240825T160000
DTSTAMP:20260422T170857
CREATED:20240823T074956Z
LAST-MODIFIED:20240823T075142Z
UID:8450-1724594400-1724601600@gamlakraftstationen.se
SUMMARY:Lustenrundan workshop: Fritt broderi
DESCRIPTION:Drop in WORKSHOP I FRITT BRODERI under folkfesten Lustenrundan. 25 augusti kl 14-16. \nVälkommen att delta i en workshop i fritt broderi. Titta på eller anslut dig till gemenskapen och prova själv.  \nLedare: Täcklebo Broderiakademi\, Karlstadgruppen. Britta Stolpe. \nKostnad: Ingen avgift. Det finns gratis prova-på-material. Om du har eget broderimaterial får du självklart ta med det. \nÅlder: För både vuxna och barn. \nIngen åldersgräns\, men barn under 10 år deltar i vuxens sällskap. \n  \nTäcklebo Broderiakademi\, Karlstagruppen är en av 50 lokalgrupper  i Sverige.  \nTäcklebo Broderiakademi är en obunden och ideell förening för den som gillar att brodera. Här finns både yrkesverksamma brodöser och nybörjare. tacklebony.wordpress.com \nKarlstadgruppen träffas 3:e torsdagen i månaden kl 18-21 hos Studieförbundet Bilda\, Drottninggatan 40\, Karlstad.  \nKontaktpersoner:  \nGudrun Midebo 076-7960711  \nBritta Stolpe 072-211 20 74
URL:https://gamlakraftstationen.se/evenemang/8450/
LOCATION:Gamla Kraftstationen\, Bruksvägen 10E\, Deje\, 66932\, Sverige
CATEGORIES:Workshop
ATTACH;FMTTYPE=image/jpeg:https://gamlakraftstationen.se/wp-content/uploads/2024/03/Broderi-Gamla-Kraftstationen-scaled.jpg
ORGANIZER;CN="Gamla Kraftstationen":MAILTO:info@gamlakraftstationen.se
END:VEVENT
END:VCALENDAR