BEGIN:VCALENDAR
VERSION:2.0
PRODID:-//Gamla Kraftstationen i Deje - ECPv6.11.0.1//NONSGML v1.0//EN
CALSCALE:GREGORIAN
METHOD:PUBLISH
X-WR-CALNAME:Gamla Kraftstationen i Deje
X-ORIGINAL-URL:https://gamlakraftstationen.se
X-WR-CALDESC:Händelser för Gamla Kraftstationen i Deje
REFRESH-INTERVAL;VALUE=DURATION:PT1H
X-Robots-Tag:noindex
X-PUBLISHED-TTL:PT1H
BEGIN:VTIMEZONE
TZID:Europe/Paris
BEGIN:DAYLIGHT
TZOFFSETFROM:+0100
TZOFFSETTO:+0200
TZNAME:CEST
DTSTART:20240331T010000
END:DAYLIGHT
BEGIN:STANDARD
TZOFFSETFROM:+0200
TZOFFSETTO:+0100
TZNAME:CET
DTSTART:20241027T010000
END:STANDARD
END:VTIMEZONE
BEGIN:VEVENT
DTSTART;VALUE=DATE:20241025
DTEND;VALUE=DATE:20241229
DTSTAMP:20260422T234009
CREATED:20241111T113907Z
LAST-MODIFIED:20241111T114113Z
UID:8757-1729814400-1735430399@gamlakraftstationen.se
SUMMARY:Konstutställning Vintersalongen torsdag-söndag
DESCRIPTION:Öppettider:\nTorsdag 11-19\nFredag 8-15\nLördag 9-15\n\n\nDet är hårt.\nDet är kallt.\nDen brinnande lågan väcker fantasin.\n\n\n\nVälkommen till Gamla Kraftstationen där en dämpad\, mytisk och kylig Vintersalong bjuder upp till en fantasieggande dans.\n\n\n\nAvnjut lunch eller fika i vårt varma Vintercafé i annexet som är fullspäckat med såväl smaker som konstupplevelser. Shopen är öppen förstås.\n\nHåll även utkik efter kreativa workshops och andra happenings som vi kryddar den mörka årstiden med.\n\n\nMot alla odds; Vi öppnar faktiskt upp i höst! -Besök oss\, igen och igen. Ta med en vän och visa både för oss och alla makthavare att Gamla Kraftstationen behövs. Hoppas vi ses!\n\n\nLäs mer om konstutställningen här: https://gamlakraftstationen.se/konst-2024/
URL:https://gamlakraftstationen.se/evenemang/konstutstallning/
LOCATION:Gamla Kraftstationen\, Bruksvägen 10E\, Deje\, 66932\, Sverige
CATEGORIES:Konstutställning
ATTACH;FMTTYPE=image/png:https://gamlakraftstationen.se/wp-content/uploads/2024/11/Vintersalong_-flyer-2024.png
ORGANIZER;CN="Gamla Kraftstationen":MAILTO:info@gamlakraftstationen.se
END:VEVENT
BEGIN:VEVENT
DTSTART;TZID=Europe/Paris:20241122T093000
DTEND;TZID=Europe/Paris:20241122T103000
DTSTAMP:20260422T234009
CREATED:20241118T132934Z
LAST-MODIFIED:20241121T073953Z
UID:8810-1732267800-1732271400@gamlakraftstationen.se
SUMMARY:Snacka konst med Linn Sönstebö Mossberg
DESCRIPTION:SNACKA KONST – Nu bjuder vi in till en ny folklig programserie där vi pratar konst utifrån olika teman. Konst måste inte vara svårt. Du behöver bara öppna sinnen. Inga förkunskaper behövs. Bara din nyfikenhet. \n\nTräffarna leds av Gamla Kraftstationens konsthallschef Linn Sönstebö Mossberg.\n\n\n\nFörsta tillfället nu på fredag 22 november 9.30-10.30.\n\nIngen föranmälan. Bara kom. Ingen kostnad förutom det fika du ev. väljer att köpa.\n\n\n\nPlats: Gamla Kraftstationens Vintercafé (i Annexet).\n\n\n\nSNACKA KONST återkommer ungefär en gång/månad. Håll utkik för kommande datum och teman här i vår evenemangskalender.\n\n  \nCulinarum Vintercafé öppet från kl 8.00. Frukost\, kaffe\, te och härliga bakverk serveras. \nVälkommen!
URL:https://gamlakraftstationen.se/evenemang/snacka-konst/
LOCATION:Gamla Kraftstationen\, Bruksvägen 10E\, Deje\, 66932\, Sverige
CATEGORIES:Event
ATTACH;FMTTYPE=image/png:https://gamlakraftstationen.se/wp-content/uploads/2024/11/Snacka-konst.png
ORGANIZER;CN="Gamla Kraftstationen":MAILTO:info@gamlakraftstationen.se
END:VEVENT
BEGIN:VEVENT
DTSTART;TZID=Europe/Paris:20241122T094500
DTEND;TZID=Europe/Paris:20241122T110000
DTSTAMP:20260422T234009
CREATED:20241112T134411Z
LAST-MODIFIED:20241112T134411Z
UID:8777-1732268700-1732273200@gamlakraftstationen.se
SUMMARY:Melodikrysset 22 nov
DESCRIPTION:MELODIKRYSSET och GOMORRON!\n\nBörja lördagen med en härlig frukostfika och Melodikrysset i Vintercaféet hos oss. Radion står på och du löser ditt kryss i din mobilapp eller på kryssplaner som finns att få på plats.\n\n\n\n9.00 öppnar vi dörrarna till caféet\n9.45 senast ankomst\n10.03 startar krysset\n\n\n\nIngen föranmälan.\nIngen avgift förutom det du köper i caféet.\n\n\n\nVälkommen hit!
URL:https://gamlakraftstationen.se/evenemang/melodikrysset-22-nov/
LOCATION:Gamla Kraftstationen\, Bruksvägen 10E\, Deje\, 66932\, Sverige
CATEGORIES:Event
ATTACH;FMTTYPE=image/png:https://gamlakraftstationen.se/wp-content/uploads/2024/11/Melodikrysset-pa-Gamla-Kraftstationen.png
ORGANIZER;CN="Gamla Kraftstationen":MAILTO:info@gamlakraftstationen.se
END:VEVENT
END:VCALENDAR