BEGIN:VCALENDAR
VERSION:2.0
PRODID:-//Gamla Kraftstationen i Deje - ECPv6.11.0.1//NONSGML v1.0//EN
CALSCALE:GREGORIAN
METHOD:PUBLISH
X-WR-CALNAME:Gamla Kraftstationen i Deje
X-ORIGINAL-URL:https://gamlakraftstationen.se
X-WR-CALDESC:Händelser för Gamla Kraftstationen i Deje
REFRESH-INTERVAL;VALUE=DURATION:PT1H
X-Robots-Tag:noindex
X-PUBLISHED-TTL:PT1H
BEGIN:VTIMEZONE
TZID:Europe/Paris
BEGIN:DAYLIGHT
TZOFFSETFROM:+0100
TZOFFSETTO:+0200
TZNAME:CEST
DTSTART:20240331T010000
END:DAYLIGHT
BEGIN:STANDARD
TZOFFSETFROM:+0200
TZOFFSETTO:+0100
TZNAME:CET
DTSTART:20241027T010000
END:STANDARD
END:VTIMEZONE
BEGIN:VEVENT
DTSTART;VALUE=DATE:20241025
DTEND;VALUE=DATE:20241229
DTSTAMP:20260423T042212
CREATED:20241111T113907Z
LAST-MODIFIED:20241111T114113Z
UID:8757-1729814400-1735430399@gamlakraftstationen.se
SUMMARY:Konstutställning Vintersalongen torsdag-söndag
DESCRIPTION:Öppettider:\nTorsdag 11-19\nFredag 8-15\nLördag 9-15\n\n\nDet är hårt.\nDet är kallt.\nDen brinnande lågan väcker fantasin.\n\n\n\nVälkommen till Gamla Kraftstationen där en dämpad\, mytisk och kylig Vintersalong bjuder upp till en fantasieggande dans.\n\n\n\nAvnjut lunch eller fika i vårt varma Vintercafé i annexet som är fullspäckat med såväl smaker som konstupplevelser. Shopen är öppen förstås.\n\nHåll även utkik efter kreativa workshops och andra happenings som vi kryddar den mörka årstiden med.\n\n\nMot alla odds; Vi öppnar faktiskt upp i höst! -Besök oss\, igen och igen. Ta med en vän och visa både för oss och alla makthavare att Gamla Kraftstationen behövs. Hoppas vi ses!\n\n\nLäs mer om konstutställningen här: https://gamlakraftstationen.se/konst-2024/
URL:https://gamlakraftstationen.se/evenemang/konstutstallning/
LOCATION:Gamla Kraftstationen\, Bruksvägen 10E\, Deje\, 66932\, Sverige
CATEGORIES:Konstutställning
ATTACH;FMTTYPE=image/png:https://gamlakraftstationen.se/wp-content/uploads/2024/11/Vintersalong_-flyer-2024.png
ORGANIZER;CN="Gamla Kraftstationen":MAILTO:info@gamlakraftstationen.se
END:VEVENT
BEGIN:VEVENT
DTSTART;TZID=Europe/Paris:20241214T094500
DTEND;TZID=Europe/Paris:20241214T110000
DTSTAMP:20260423T042212
CREATED:20241112T134617Z
LAST-MODIFIED:20241112T134617Z
UID:8783-1734169500-1734174000@gamlakraftstationen.se
SUMMARY:Melodikrysset 14 dec
DESCRIPTION:MELODIKRYSSET och GOMORRON!\n\nBörja lördagen med en härlig frukostfika och Melodikrysset i Vintercaféet hos oss. Radion står på och du löser ditt kryss i din mobilapp eller på kryssplaner som finns att få på plats.\n\n\n\n9.00 öppnar vi dörrarna till caféet\n9.45 senast ankomst\n10.03 startar krysset\n\n\n\nIngen föranmälan.\nIngen avgift förutom det du köper i caféet.\n\n\n\nVälkommen hit!
URL:https://gamlakraftstationen.se/evenemang/melodikrysset-14-dec/
LOCATION:Gamla Kraftstationen\, Bruksvägen 10E\, Deje\, 66932\, Sverige
CATEGORIES:Event
ATTACH;FMTTYPE=image/png:https://gamlakraftstationen.se/wp-content/uploads/2024/11/Melodikrysset-pa-Gamla-Kraftstationen.png
ORGANIZER;CN="Gamla Kraftstationen":MAILTO:info@gamlakraftstationen.se
END:VEVENT
BEGIN:VEVENT
DTSTART;TZID=Europe/Paris:20241214T110000
DTEND;TZID=Europe/Paris:20241214T150000
DTSTAMP:20260423T042212
CREATED:20241209T090802Z
LAST-MODIFIED:20241210T123408Z
UID:8887-1734174000-1734188400@gamlakraftstationen.se
SUMMARY:Julmingel 14 dec
DESCRIPTION:Välkommen in på ett mysigt Julmingel med oss på Gamla Kraftstationen lördag 14/12 kl. 11-15. Fri entré! Caféet öppnar redan kl. 9.00.\n\nMUSIK kl. 12\, 13 & 14Kören Stämma\, tolv kvinnoröster från Karlstad som under ledning av Christina Lidén fyller konsthallen med stämningsfull julsång. Njut en rykande varm glögg medan du lyssnar.\n\nSAGORNAS MAGISKA VÄRLD KL. 13.30 & 14.30Sagoläsning för vuxna och barn. Kliv över tröskeln och in i sagornas magiska värld. Amanda Svensson som berättar sagor som förtrollar hela familjen.\n\nBOKRELEASE kl. 11-15Ann-Katrin Majbrittsdotter visar och säljer sin nya bok Burfågel.\n\nKONSTNÄRER PÅ PLATS kl. 11-15Mias Raku\, Catrin Schmeer och Amanda Svensson säljer fina julklappar i olika prisklasser.\n\nTA EN JULBILD PÅ ELLINORS JULBALKONG kl. 11-15Ta en tur till våning 2 i konsthallen. Kliv in bland klappar och julpynt. Sätt dig i fåtöljen och ta en schysst selfie eller varför inte passa på att ta julens familjebild!\n\nLOTTERIER kl. 11-15Prova lyckan i tombolalotteriet. Fina vinster!Dessutom; nytt konstlotteri. Lotter finns att köpa på plats.\n\nVEDUGNSBAKAT BRÖD kl. 11-15Köp vedugnsbakat bröd från Höje vedugnsbageri.\n\nLEVANDE JORD kl. 11-15Julkransar & buketter av torkade blommor.. Helt komposterbara utan ståltråd osv.\n\nTOMTAR PÅ LOFTET kl. 12-15Välkommen in i ateljén på våning 2 i Annexet. Här kan du tälja granar av färskt trä\, tova gulliga ullkulor till granen\, göra snygga julklappsetiketter och vackra pappersstjärnor.Här gäller en liten entré: 40:- för de stora och 20:- för de små.\n\nCULINARUM VINTERCAFÉ kl. 9-15Frukost med julmackor\, lunch\, lussebullar och andra härliga bakverk.\n\nVälkomna!
URL:https://gamlakraftstationen.se/evenemang/julmingel-14-dec/
LOCATION:Gamla Kraftstationen\, Bruksvägen 10E\, Deje\, 66932\, Sverige
CATEGORIES:Event
ATTACH;FMTTYPE=image/png:https://gamlakraftstationen.se/wp-content/uploads/2024/12/Julmingel-14-dec-Gamla-Kraftstationen.png
ORGANIZER;CN="Gamla Kraftstationen":MAILTO:info@gamlakraftstationen.se
END:VEVENT
BEGIN:VEVENT
DTSTART;TZID=Europe/Paris:20241214T120000
DTEND;TZID=Europe/Paris:20241214T150000
DTSTAMP:20260423T042212
CREATED:20241120T085126Z
LAST-MODIFIED:20241128T092211Z
UID:8826-1734177600-1734188400@gamlakraftstationen.se
SUMMARY:Tomtar på loftet 14 dec
DESCRIPTION:TOMTAR PÅ LOFTET – en sorts tomteverkstad!\n\n Lördag 14 december kl. 12-15\nDrop in.\n\n\n\n Välkommen in till Tomtarna på loftet och låt dig förtrollas in i kreativitetens värld. Här kan du tälja granar av färskt trä\, tova gulliga ullkulor till granen\, göra snygga julklappsetiketter eller varför inte prova Stinas superdupervackra pappersstjärnor. Allt du tillverkar får du självklart ta med hem. Kom in och delta på traktens mysigaste julpysseldagar \n\n\n\n Ledare: Makerstations Tomtenissar\n\n\n Kostnad: 40 för de stora & 20 för de små. Allt material ingår.\n\n\n Plats: Makerstation kollektiv ateljé. Våning 2 i Annexet vid Gamla Kraftstationen.\n\n\n Ålder: För både vuxna och barn. Ingen åldersgräns\, men barn under 10 år deltar i vuxens sällskap.\n\n\n Konsthallen och Culinarum Café är förstås öppna som vanligt kl 9-15.\n\n\n Shopen har många fina julklappar!
URL:https://gamlakraftstationen.se/evenemang/tomtar-pa-loftet-14-dec/
LOCATION:Gamla Kraftstationen\, Bruksvägen 10E\, Deje\, 66932\, Sverige
CATEGORIES:Event
ATTACH;FMTTYPE=image/png:https://gamlakraftstationen.se/wp-content/uploads/2024/11/Tomtar-pa-loftet.png
ORGANIZER;CN="Gamla Kraftstationen":MAILTO:info@gamlakraftstationen.se
END:VEVENT
END:VCALENDAR