BEGIN:VCALENDAR
VERSION:2.0
PRODID:-//Gamla Kraftstationen i Deje - ECPv6.11.0.1//NONSGML v1.0//EN
CALSCALE:GREGORIAN
METHOD:PUBLISH
X-WR-CALNAME:Gamla Kraftstationen i Deje
X-ORIGINAL-URL:https://gamlakraftstationen.se
X-WR-CALDESC:Händelser för Gamla Kraftstationen i Deje
REFRESH-INTERVAL;VALUE=DURATION:PT1H
X-Robots-Tag:noindex
X-PUBLISHED-TTL:PT1H
BEGIN:VTIMEZONE
TZID:Europe/Paris
BEGIN:DAYLIGHT
TZOFFSETFROM:+0100
TZOFFSETTO:+0200
TZNAME:CEST
DTSTART:20240331T010000
END:DAYLIGHT
BEGIN:STANDARD
TZOFFSETFROM:+0200
TZOFFSETTO:+0100
TZNAME:CET
DTSTART:20241027T010000
END:STANDARD
END:VTIMEZONE
BEGIN:VEVENT
DTSTART;VALUE=DATE:20241025
DTEND;VALUE=DATE:20241229
DTSTAMP:20260423T042202
CREATED:20241111T113907Z
LAST-MODIFIED:20241111T114113Z
UID:8757-1729814400-1735430399@gamlakraftstationen.se
SUMMARY:Konstutställning Vintersalongen torsdag-söndag
DESCRIPTION:Öppettider:\nTorsdag 11-19\nFredag 8-15\nLördag 9-15\n\n\nDet är hårt.\nDet är kallt.\nDen brinnande lågan väcker fantasin.\n\n\n\nVälkommen till Gamla Kraftstationen där en dämpad\, mytisk och kylig Vintersalong bjuder upp till en fantasieggande dans.\n\n\n\nAvnjut lunch eller fika i vårt varma Vintercafé i annexet som är fullspäckat med såväl smaker som konstupplevelser. Shopen är öppen förstås.\n\nHåll även utkik efter kreativa workshops och andra happenings som vi kryddar den mörka årstiden med.\n\n\nMot alla odds; Vi öppnar faktiskt upp i höst! -Besök oss\, igen och igen. Ta med en vän och visa både för oss och alla makthavare att Gamla Kraftstationen behövs. Hoppas vi ses!\n\n\nLäs mer om konstutställningen här: https://gamlakraftstationen.se/konst-2024/
URL:https://gamlakraftstationen.se/evenemang/konstutstallning/
LOCATION:Gamla Kraftstationen\, Bruksvägen 10E\, Deje\, 66932\, Sverige
CATEGORIES:Konstutställning
ATTACH;FMTTYPE=image/png:https://gamlakraftstationen.se/wp-content/uploads/2024/11/Vintersalong_-flyer-2024.png
ORGANIZER;CN="Gamla Kraftstationen":MAILTO:info@gamlakraftstationen.se
END:VEVENT
BEGIN:VEVENT
DTSTART;TZID=Europe/Paris:20241221T094500
DTEND;TZID=Europe/Paris:20241221T110000
DTSTAMP:20260423T042202
CREATED:20241112T134656Z
LAST-MODIFIED:20241112T134656Z
UID:8785-1734774300-1734778800@gamlakraftstationen.se
SUMMARY:Melodikrysset 21 dec
DESCRIPTION:MELODIKRYSSET och GOMORRON!\n\nBörja lördagen med en härlig frukostfika och Melodikrysset i Vintercaféet hos oss. Radion står på och du löser ditt kryss i din mobilapp eller på kryssplaner som finns att få på plats.\n\n\n\n9.00 öppnar vi dörrarna till caféet\n9.45 senast ankomst\n10.03 startar krysset\n\n\n\nIngen föranmälan.\nIngen avgift förutom det du köper i caféet.\n\n\n\nVälkommen hit!
URL:https://gamlakraftstationen.se/evenemang/melodikrysset-21-dec/
LOCATION:Gamla Kraftstationen\, Bruksvägen 10E\, Deje\, 66932\, Sverige
CATEGORIES:Event
ATTACH;FMTTYPE=image/png:https://gamlakraftstationen.se/wp-content/uploads/2024/11/Melodikrysset-pa-Gamla-Kraftstationen.png
ORGANIZER;CN="Gamla Kraftstationen":MAILTO:info@gamlakraftstationen.se
END:VEVENT
BEGIN:VEVENT
DTSTART;TZID=Europe/Paris:20241221T120000
DTEND;TZID=Europe/Paris:20241221T150000
DTSTAMP:20260423T042202
CREATED:20241120T085226Z
LAST-MODIFIED:20241128T092230Z
UID:8828-1734782400-1734793200@gamlakraftstationen.se
SUMMARY:Tomtar på loftet 21 dec
DESCRIPTION:TOMTAR PÅ LOFTET – en sorts tomteverkstad!\n\n Lördag 21 december kl. 12-15\nDrop in.\n\n\n\n Välkommen in till Tomtarna på loftet och låt dig förtrollas in i kreativitetens värld. Här kan du tälja granar av färskt trä\, tova gulliga ullkulor till granen\, göra snygga julklappsetiketter eller varför inte prova Stinas superdupervackra pappersstjärnor. Allt du tillverkar får du självklart ta med hem. Kom in och delta på traktens mysigaste julpysseldagar \n\n\n\n Ledare: Makerstations Tomtenissar\n\n\n Kostnad: 40 för de stora & 20 för de små. Allt material ingår.\n\n\n Plats: Makerstation kollektiv ateljé. Våning 2 i Annexet vid Gamla Kraftstationen.\n\n\n Ålder: För både vuxna och barn. Ingen åldersgräns\, men barn under 10 år deltar i vuxens sällskap.\n\n\n Konsthallen och Culinarum Café är förstås öppna som vanligt kl 9-15.\n\n\n Shopen har många fina julklappar!
URL:https://gamlakraftstationen.se/evenemang/tomtar-pa-loftet-21-dec/
LOCATION:Gamla Kraftstationen\, Bruksvägen 10E\, Deje\, 66932\, Sverige
CATEGORIES:Event
ATTACH;FMTTYPE=image/png:https://gamlakraftstationen.se/wp-content/uploads/2024/11/Tomtar-pa-loftet.png
ORGANIZER;CN="Gamla Kraftstationen":MAILTO:info@gamlakraftstationen.se
END:VEVENT
END:VCALENDAR