BEGIN:VCALENDAR
VERSION:2.0
PRODID:-//Gamla Kraftstationen i Deje - ECPv6.11.0.1//NONSGML v1.0//EN
CALSCALE:GREGORIAN
METHOD:PUBLISH
X-WR-CALNAME:Gamla Kraftstationen i Deje
X-ORIGINAL-URL:https://gamlakraftstationen.se
X-WR-CALDESC:Händelser för Gamla Kraftstationen i Deje
REFRESH-INTERVAL;VALUE=DURATION:PT1H
X-Robots-Tag:noindex
X-PUBLISHED-TTL:PT1H
BEGIN:VTIMEZONE
TZID:Europe/Paris
BEGIN:DAYLIGHT
TZOFFSETFROM:+0100
TZOFFSETTO:+0200
TZNAME:CEST
DTSTART:20250330T010000
END:DAYLIGHT
BEGIN:STANDARD
TZOFFSETFROM:+0200
TZOFFSETTO:+0100
TZNAME:CET
DTSTART:20251026T010000
END:STANDARD
END:VTIMEZONE
BEGIN:VEVENT
DTSTART;TZID=Europe/Paris:20250214T100000
DTEND;TZID=Europe/Paris:20250214T120000
DTSTAMP:20260423T055103
CREATED:20250210T141018Z
LAST-MODIFIED:20250210T143332Z
UID:9151-1739527200-1739534400@gamlakraftstationen.se
SUMMARY:Foto-fika med Fridh & Karlberg 14 februari
DESCRIPTION:Prat\, tåligt och identifiering av foton från förr. Lokalhistorikerna Fridh & Karlberg är på plats med ett knippe Dejeforsbilder. Ta gärna med egna album med gamla foton. \nDrop in mellan kl 10-12. \nIngen kostnad förutom det fika du väljer att köpa. Här finns frukostmackor\, semlor och andra goda bakverk. \nFredagar öppet kl 8-15. Lunch kl 11.30-14.00. \nVälkommen!
URL:https://gamlakraftstationen.se/evenemang/foto-fika-med-fridh-karlberg-14-februari/
LOCATION:Gamla Kraftstationen\, Bruksvägen 10E\, Deje\, 66932\, Sverige
CATEGORIES:Event
ATTACH;FMTTYPE=image/png:https://gamlakraftstationen.se/wp-content/uploads/2025/02/Fotofika-med-Fridh-Karlberg.png
ORGANIZER;CN="Gamla Kraftstationen":MAILTO:info@gamlakraftstationen.se
END:VEVENT
BEGIN:VEVENT
DTSTART;TZID=Europe/Paris:20250214T113000
DTEND;TZID=Europe/Paris:20250214T140000
DTSTAMP:20260423T055103
CREATED:20250211T184839Z
LAST-MODIFIED:20250211T185047Z
UID:9183-1739532600-1739541600@gamlakraftstationen.se
SUMMARY:Alla hjärtans lunch 14 februari
DESCRIPTION:
URL:https://gamlakraftstationen.se/evenemang/alla-hjartans-lunch-14-februari/
LOCATION:Gamla Kraftstationen\, Bruksvägen 10E\, Deje\, 66932\, Sverige
ATTACH;FMTTYPE=image/jpeg:https://gamlakraftstationen.se/wp-content/uploads/2025/02/Lunchmeny-Alla-hjartans-lunch-14-15-februari-Gamla-Kraftstationen-scaled.jpg
ORGANIZER;CN="Gamla Kraftstationen":MAILTO:info@gamlakraftstationen.se
END:VEVENT
BEGIN:VEVENT
DTSTART;TZID=Europe/Paris:20250214T120000
DTEND;TZID=Europe/Paris:20250214T150000
DTSTAMP:20260423T055103
CREATED:20250210T142810Z
LAST-MODIFIED:20250210T142920Z
UID:9154-1739534400-1739545200@gamlakraftstationen.se
SUMMARY:Delikatessbricka Alla hjärtans dag 14 februari
DESCRIPTION:Beställ delikatessbricka för avhämtning! \nTill myset denna Alla hjärtans-helg erbjuder vi en smakfull bricka med lufttorkad skinka och salami från Hemgården\, ost från Lakene ostgård\, melon\, vindruvor\, oliver\, ädelost\, valnötter\, marmelad\, salta snacks\, husets fröknäcke samt chokladtryfflar. \nAvhämtning fredag 14 februari kl 12-15. \nBeställ senast torsdag 13 februari kl 12.00 till 072-589 00 71 \n2p 200 kr \n4p 400 kr \n6p 570 kr \n8p 720 kr \nVälkommen med din beställning!
URL:https://gamlakraftstationen.se/evenemang/delikatessbricka-alla-hjartans-dag/
LOCATION:Gamla Kraftstationen\, Bruksvägen 10E\, Deje\, 66932\, Sverige
CATEGORIES:Take away
ATTACH;FMTTYPE=image/png:https://gamlakraftstationen.se/wp-content/uploads/2025/02/Delikatessbricka-alla-hjartans-dag.png
ORGANIZER;CN="Gamla Kraftstationen":MAILTO:info@gamlakraftstationen.se
END:VEVENT
END:VCALENDAR