BEGIN:VCALENDAR
VERSION:2.0
PRODID:-//Gamla Kraftstationen i Deje - ECPv6.11.0.1//NONSGML v1.0//EN
CALSCALE:GREGORIAN
METHOD:PUBLISH
X-ORIGINAL-URL:https://gamlakraftstationen.se
X-WR-CALDESC:Händelser för Gamla Kraftstationen i Deje
REFRESH-INTERVAL;VALUE=DURATION:PT1H
X-Robots-Tag:noindex
X-PUBLISHED-TTL:PT1H
BEGIN:VTIMEZONE
TZID:Europe/Paris
BEGIN:DAYLIGHT
TZOFFSETFROM:+0100
TZOFFSETTO:+0200
TZNAME:CEST
DTSTART:20250330T010000
END:DAYLIGHT
BEGIN:STANDARD
TZOFFSETFROM:+0200
TZOFFSETTO:+0100
TZNAME:CET
DTSTART:20251026T010000
END:STANDARD
END:VTIMEZONE
BEGIN:VEVENT
DTSTART;TZID=Europe/Paris:20250215T100000
DTEND;TZID=Europe/Paris:20250215T100000
DTSTAMP:20260423T055424
CREATED:20250210T135314Z
LAST-MODIFIED:20250210T135314Z
UID:9143-1739613600-1739613600@gamlakraftstationen.se
SUMMARY:Melodikrysset 15 februari
DESCRIPTION:MELODIKRYSSET och GOMORRON!\n\nBörja lördagen med en härlig frukostfika och Melodikrysset i Vintercaféet hos oss. Radion står på och du löser ditt kryss i din mobilapp eller på kryssplaner som finns att få på plats.\n\n\n\n9.00 öppnar vi dörrarna till caféet\n9.45 senast ankomst\n10.03 startar krysset\n\n\n\nIngen föranmälan.\nIngen avgift förutom det du köper i caféet.\n\n\n\nVälkommen hit!
URL:https://gamlakraftstationen.se/evenemang/melodikrysset-15-februari/
LOCATION:Gamla Kraftstationen\, Bruksvägen 10E\, Deje\, 66932\, Sverige
CATEGORIES:Event
ATTACH;FMTTYPE=image/png:https://gamlakraftstationen.se/wp-content/uploads/2024/11/Melodikrysset-pa-Gamla-Kraftstationen.png
ORGANIZER;CN="Gamla Kraftstationen":MAILTO:info@gamlakraftstationen.se
END:VEVENT
BEGIN:VEVENT
DTSTART;TZID=Europe/Paris:20250215T120000
DTEND;TZID=Europe/Paris:20250215T143000
DTSTAMP:20260423T055424
CREATED:20250211T184923Z
LAST-MODIFIED:20250211T185028Z
UID:9185-1739620800-1739629800@gamlakraftstationen.se
SUMMARY:Alla hjärtans lunch 15 februari
DESCRIPTION:
URL:https://gamlakraftstationen.se/evenemang/alla-hjartans-lunch-15-februari/
LOCATION:Gamla Kraftstationen\, Bruksvägen 10E\, Deje\, 66932\, Sverige
ATTACH;FMTTYPE=image/jpeg:https://gamlakraftstationen.se/wp-content/uploads/2025/02/Lunchmeny-Alla-hjartans-lunch-14-15-februari-Gamla-Kraftstationen-scaled.jpg
ORGANIZER;CN="Gamla Kraftstationen":MAILTO:info@gamlakraftstationen.se
END:VEVENT
BEGIN:VEVENT
DTSTART;TZID=Europe/Paris:20250215T120000
DTEND;TZID=Europe/Paris:20250215T150000
DTSTAMP:20260423T055424
CREATED:20250210T143014Z
LAST-MODIFIED:20250210T143014Z
UID:9157-1739620800-1739631600@gamlakraftstationen.se
SUMMARY:Delikatessbricka Alla hjärtans dag 15 februari
DESCRIPTION:Beställ delikatessbricka för avhämtning! \nTill myset denna Alla hjärtans-helg erbjuder vi en smakfull bricka med lufttorkad skinka och salami från Hemgården\, ost från Lakene ostgård\, melon\, vindruvor\, oliver\, ädelost\, valnötter\, marmelad\, salta snacks\, husets fröknäcke samt chokladtryfflar. \nAvhämtning lördag 15 februari kl 12-15. \nBeställ senast torsdag 13 februari kl 12.00 till 072-589 00 71 \n2p 200 kr \n4p 400 kr \n6p 570 kr \n8p 720 kr \nVälkommen med din beställning!
URL:https://gamlakraftstationen.se/evenemang/delikatessbricka-alla-hjartans-dag-15-februari/
LOCATION:Gamla Kraftstationen\, Bruksvägen 10E\, Deje\, 66932\, Sverige
CATEGORIES:Take away
ATTACH;FMTTYPE=image/png:https://gamlakraftstationen.se/wp-content/uploads/2025/02/Delikatessbricka-alla-hjartans-dag.png
ORGANIZER;CN="Gamla Kraftstationen":MAILTO:info@gamlakraftstationen.se
END:VEVENT
END:VCALENDAR