BEGIN:VCALENDAR
VERSION:2.0
PRODID:-//Gamla Kraftstationen i Deje - ECPv6.11.0.1//NONSGML v1.0//EN
CALSCALE:GREGORIAN
METHOD:PUBLISH
X-ORIGINAL-URL:https://gamlakraftstationen.se
X-WR-CALDESC:Händelser för Gamla Kraftstationen i Deje
REFRESH-INTERVAL;VALUE=DURATION:PT1H
X-Robots-Tag:noindex
X-PUBLISHED-TTL:PT1H
BEGIN:VTIMEZONE
TZID:Europe/Paris
BEGIN:DAYLIGHT
TZOFFSETFROM:+0100
TZOFFSETTO:+0200
TZNAME:CEST
DTSTART:20250330T010000
END:DAYLIGHT
BEGIN:STANDARD
TZOFFSETFROM:+0200
TZOFFSETTO:+0100
TZNAME:CET
DTSTART:20251026T010000
END:STANDARD
END:VTIMEZONE
BEGIN:VEVENT
DTSTART;TZID=Europe/Paris:20250228T170000
DTEND;TZID=Europe/Paris:20250228T200000
DTSTAMP:20260423T055332
CREATED:20250223T132226Z
LAST-MODIFIED:20250223T132226Z
UID:9222-1740762000-1740772800@gamlakraftstationen.se
SUMMARY:TACO-MYS 28 februari - BORDSBOKNING
DESCRIPTION:🌶 TACO-MYS – en go start på helgen!\nFredag 28/2 Kl. 17-20.\nTa med familjen eller kompisarna och börja helgen hos oss i vårt varma mysiga Vintercafé. \n🌶 Förutom en underbar tacobuffé med såväl klassiska som nya smaker finns här popcorn och mängder av brädspel. Lägg till en ljuvlig glassdessert och fredagsmyset blir komplett.\nVälkommen hit! \n🌶 Bokningsbara tider:\n17.00\n17.30\n18.00\n18.30\n19.00 \n🌶 OBS! Boka bord senast onsdag 26/2 Kl 10.00.\nKom ihåg att uppge antal personer (vuxen/barn)\, önskad tid för sittning samt ev. allergi.\nSms: 072-589 00 71\nMail: bokning@gamlakraftstationen.se \n🌶 Tacobuffe:\nVuxen 175:-\nBarn 5-12 år 95:-\nBarn under 5 år 15:-
URL:https://gamlakraftstationen.se/evenemang/taco-mys-28-februari-bordsbokning/
LOCATION:Gamla Kraftstationen\, Bruksvägen 10E\, Deje\, 66932\, Sverige
CATEGORIES:Event
ATTACH;FMTTYPE=image/png:https://gamlakraftstationen.se/wp-content/uploads/2025/02/Tacomys-28-feb.png
ORGANIZER;CN="Gamla Kraftstationen":MAILTO:info@gamlakraftstationen.se
END:VEVENT
END:VCALENDAR