BEGIN:VCALENDAR
VERSION:2.0
PRODID:-//Gamla Kraftstationen i Deje - ECPv6.11.0.1//NONSGML v1.0//EN
CALSCALE:GREGORIAN
METHOD:PUBLISH
X-ORIGINAL-URL:https://gamlakraftstationen.se
X-WR-CALDESC:Händelser för Gamla Kraftstationen i Deje
REFRESH-INTERVAL;VALUE=DURATION:PT1H
X-Robots-Tag:noindex
X-PUBLISHED-TTL:PT1H
BEGIN:VTIMEZONE
TZID:Europe/Paris
BEGIN:DAYLIGHT
TZOFFSETFROM:+0100
TZOFFSETTO:+0200
TZNAME:CEST
DTSTART:20250330T010000
END:DAYLIGHT
BEGIN:STANDARD
TZOFFSETFROM:+0200
TZOFFSETTO:+0100
TZNAME:CET
DTSTART:20251026T010000
END:STANDARD
END:VTIMEZONE
BEGIN:VEVENT
DTSTART;TZID=Europe/Paris:20250304T090000
DTEND;TZID=Europe/Paris:20250304T150000
DTSTAMP:20260423T071944
CREATED:20250227T142534Z
LAST-MODIFIED:20250227T142534Z
UID:9225-1741078800-1741100400@gamlakraftstationen.se
SUMMARY:Semmeldagen 4 mars
DESCRIPTION:🧡 SEMMELDAGEN 4 mars \nVI ÄR LADDADE! ÄR DU? \nKom ihåg att beställa semlorna till familjen\, vännerna\, kollegorna eller tisdagens möten och konferenser! Vi har traktens godaste semlor som bakas med bra råvaror till 100% från grunden i vårt eget kök.\nVälj mellan Klassisk semla och Vaniljsemla.\nTake away eller fika här i mysiga Vintercaféet.\nExtra öppet kl 9-15 den 4 mars. \n🧡 50kr/st. Boka 10 st eller fler och betala 45kr/st.\nBoka senast 2 mars Kl 20.00 för hämtning 4 mars kl 9-15.\nHar du ett annat önskemål för hämtning så fråga oss.\nSms 072-589 00 71\nMail bokning@gamlakraftstationen.se \nVälkommen!
URL:https://gamlakraftstationen.se/evenemang/semmeldagen-4-mars/
LOCATION:Gamla Kraftstationen\, Bruksvägen 10E\, Deje\, 66932\, Sverige
CATEGORIES:Event
ATTACH;FMTTYPE=image/png:https://gamlakraftstationen.se/wp-content/uploads/2025/02/Semlor-Gamla-Kraftstationen.png
ORGANIZER;CN="Gamla Kraftstationen":MAILTO:info@gamlakraftstationen.se
END:VEVENT
END:VCALENDAR