BEGIN:VCALENDAR
VERSION:2.0
PRODID:-//Gamla Kraftstationen i Deje - ECPv6.11.0.1//NONSGML v1.0//EN
CALSCALE:GREGORIAN
METHOD:PUBLISH
X-ORIGINAL-URL:https://gamlakraftstationen.se
X-WR-CALDESC:Händelser för Gamla Kraftstationen i Deje
REFRESH-INTERVAL;VALUE=DURATION:PT1H
X-Robots-Tag:noindex
X-PUBLISHED-TTL:PT1H
BEGIN:VTIMEZONE
TZID:Europe/Paris
BEGIN:DAYLIGHT
TZOFFSETFROM:+0100
TZOFFSETTO:+0200
TZNAME:CEST
DTSTART:20250330T010000
END:DAYLIGHT
BEGIN:STANDARD
TZOFFSETFROM:+0200
TZOFFSETTO:+0100
TZNAME:CET
DTSTART:20251026T010000
END:STANDARD
END:VTIMEZONE
BEGIN:VEVENT
DTSTART;TZID=Europe/Paris:20250329T100000
DTEND;TZID=Europe/Paris:20250329T110000
DTSTAMP:20260423T071942
CREATED:20250303T113044Z
LAST-MODIFIED:20250303T113044Z
UID:9246-1743242400-1743246000@gamlakraftstationen.se
SUMMARY:Melodikrysset 29 mars
DESCRIPTION:MELODIKRYSSET och GOMORRON!\n\nBörja lördagen med en härlig frukostfika och Melodikrysset i Vintercaféet hos oss. Radion står på och du löser ditt kryss i din mobilapp eller på kryssplaner som finns att få på plats.\n\n\n\n9.00 öppnar vi dörrarna till caféet\n9.45 senast ankomst\n10.03 startar krysset\n\n\n\nIngen föranmälan.\nIngen avgift förutom det du köper i caféet.\n\n\n\nVälkommen hit!
URL:https://gamlakraftstationen.se/evenemang/melodikrysset-29-mars/
LOCATION:Gamla Kraftstationen\, Bruksvägen 10E\, Deje\, 66932\, Sverige
CATEGORIES:Event
ATTACH;FMTTYPE=image/png:https://gamlakraftstationen.se/wp-content/uploads/2024/11/Melodikrysset-pa-Gamla-Kraftstationen.png
ORGANIZER;CN="Gamla Kraftstationen":MAILTO:info@gamlakraftstationen.se
END:VEVENT
BEGIN:VEVENT
DTSTART;TZID=Europe/Paris:20250329T110000
DTEND;TZID=Europe/Paris:20250329T140000
DTSTAMP:20260423T071942
CREATED:20250326T084106Z
LAST-MODIFIED:20250326T084106Z
UID:9310-1743246000-1743256800@gamlakraftstationen.se
SUMMARY:Laga-lördag 29 mars
DESCRIPTION:LAGA-LÖRDAG i ateljén!\nVälkommen att lappa & laga i lag med andra!\nTa med sånt du vill fixa.\n\nLördag 29/3 kl 11-14\n\n\n\nVi utbyter kunskaper och hjälper varandra med raggsockorna\, tröjan\, stolen… På plats finns ett par symaskiner\, garn\, lim och lite verktyg.\n\n\nIngen kostnad. Du betalar bara för ev. fika och lunch om du vill köpa i vårt mysiga Vintercafé.\n\n\n\nPlats: Ateljé Makerstation\, våning 2 i Annexet.\nIngång via receptionen.
URL:https://gamlakraftstationen.se/evenemang/laga-lordag-29-mars/
LOCATION:Gamla Kraftstationen\, Bruksvägen 10E\, Deje\, 66932\, Sverige
CATEGORIES:Event
ATTACH;FMTTYPE=image/png:https://gamlakraftstationen.se/wp-content/uploads/2025/03/Laga-Lordag-29-mars.png
ORGANIZER;CN="Gamla Kraftstationen":MAILTO:info@gamlakraftstationen.se
END:VEVENT
END:VCALENDAR