BEGIN:VCALENDAR
VERSION:2.0
PRODID:-//Gamla Kraftstationen i Deje - ECPv6.11.0.1//NONSGML v1.0//EN
CALSCALE:GREGORIAN
METHOD:PUBLISH
X-ORIGINAL-URL:https://gamlakraftstationen.se
X-WR-CALDESC:Händelser för Gamla Kraftstationen i Deje
REFRESH-INTERVAL;VALUE=DURATION:PT1H
X-Robots-Tag:noindex
X-PUBLISHED-TTL:PT1H
BEGIN:VTIMEZONE
TZID:Europe/Paris
BEGIN:DAYLIGHT
TZOFFSETFROM:+0100
TZOFFSETTO:+0200
TZNAME:CEST
DTSTART:20250330T010000
END:DAYLIGHT
BEGIN:STANDARD
TZOFFSETFROM:+0200
TZOFFSETTO:+0100
TZNAME:CET
DTSTART:20251026T010000
END:STANDARD
END:VTIMEZONE
BEGIN:VEVENT
DTSTART;TZID=Europe/Paris:20250411T100000
DTEND;TZID=Europe/Paris:20250411T120000
DTSTAMP:20260423T085935
CREATED:20250318T103344Z
LAST-MODIFIED:20250318T103344Z
UID:9282-1744365600-1744372800@gamlakraftstationen.se
SUMMARY:FOTO-FIKA med Fridh & Karlberg 11 april: tema 60-talets Deje
DESCRIPTION:Välkommen på prat\, töling och identifiering av foton från förr. Lokalhistorikerna Fridh & Karlberg är på plats med ett knippe Dejebilder från 60-talet. \nTa gärna med egna album med gamla foton. \nDrop in mellan kl 10-12. Ingen kostnad förutom det fika du väljer att köpa. Här finns frukostmackor\, semlor och andra god bakverk. \nFredar öppet kl 08-15. Lunch serveras från kl 11.30.
URL:https://gamlakraftstationen.se/evenemang/foto-fika-med-fridh-karlberg-11-april-tema-60-talets-deje/
LOCATION:Gamla Kraftstationen\, Bruksvägen 10E\, Deje\, 66932\, Sverige
CATEGORIES:Event
ATTACH;FMTTYPE=image/png:https://gamlakraftstationen.se/wp-content/uploads/2025/03/Fotofika-med-Fridh-Karlberg-11-april.png
ORGANIZER;CN="Gamla Kraftstationen":MAILTO:info@gamlakraftstationen.se
END:VEVENT
END:VCALENDAR