BEGIN:VCALENDAR
VERSION:2.0
PRODID:-//Gamla Kraftstationen i Deje - ECPv6.11.0.1//NONSGML v1.0//EN
CALSCALE:GREGORIAN
METHOD:PUBLISH
X-WR-CALNAME:Gamla Kraftstationen i Deje
X-ORIGINAL-URL:https://gamlakraftstationen.se
X-WR-CALDESC:Händelser för Gamla Kraftstationen i Deje
REFRESH-INTERVAL;VALUE=DURATION:PT1H
X-Robots-Tag:noindex
X-PUBLISHED-TTL:PT1H
BEGIN:VTIMEZONE
TZID:Europe/Paris
BEGIN:DAYLIGHT
TZOFFSETFROM:+0100
TZOFFSETTO:+0200
TZNAME:CEST
DTSTART:20250330T010000
END:DAYLIGHT
BEGIN:STANDARD
TZOFFSETFROM:+0200
TZOFFSETTO:+0100
TZNAME:CET
DTSTART:20251026T010000
END:STANDARD
END:VTIMEZONE
BEGIN:VEVENT
DTSTART;VALUE=DATE:20250521
DTEND;VALUE=DATE:20250526
DTSTAMP:20260423T103618
CREATED:20250520T213704Z
LAST-MODIFIED:20250520T213704Z
UID:11210-1747785600-1748217599@gamlakraftstationen.se
SUMMARY:Utställning: Dejeskolan årskurs 9
DESCRIPTION:DEJESKOLAN + GAMLA KRAFTSTATIONEN = SANT\nVälkommen att se utställningen DIN STUND PÅ JORDEN! Unga konstnärer tolkar fritt på temat!\n\n\n\n Vernissage 21 maj kl. 18-20\nÖvriga öppettider 22-25 maj kl. 11-16. (lördag öppet från kl 9)\n\n\n\n Förra årets succé i form av konstsamarbete mellan Dejeskolans årskurs nio och Gamla Kraftstationens konstgrupp fortsätter och vi kan ännu en gång bjuda in till en betydelsefull och gripande utställning! Initiativtagare och drivkraft i samarbetet är bildlärare Anna Dahlén.\n\n\n\n Se bilder för en tjuvkik på utställningen. Men bäst upplevelse får du på plats. Välkommen!
URL:https://gamlakraftstationen.se/evenemang/utstallning-dejeskolan-arskurs-9-3/
LOCATION:Gamla Kraftstationen\, Bruksvägen 10E\, Deje\, 66932\, Sverige
CATEGORIES:Konstutställning
ATTACH;FMTTYPE=image/jpeg:https://gamlakraftstationen.se/wp-content/uploads/2025/05/20250520_131301-scaled.jpg
ORGANIZER;CN="Gamla Kraftstationen":MAILTO:info@gamlakraftstationen.se
END:VEVENT
BEGIN:VEVENT
DTSTART;VALUE=DATE:20250522
DTEND;VALUE=DATE:20250526
DTSTAMP:20260423T103618
CREATED:20250513T104935Z
LAST-MODIFIED:20250520T213415Z
UID:11045-1747872000-1748217599@gamlakraftstationen.se
SUMMARY:Ateljé Artists in action: Ann-Katrin Majbrittsdotter & Annika Erneström
DESCRIPTION:Succén med ateljé Artists in Action fortsätter! \nHär kan du som besökare uppleva konstnärer i arbete. \nDå och då kan du även möta arbetande konstnärer i ateljé Makerstation\, den kollektiva ateljén. \nMöt Ann-Katrin Majbrittsdotter & Anicka Erneström i ateljén Artists in action 22-25 maj kl 11-16. \n\n ANN-KATRIN MAJBRITTSDOTTER är konstnären som alltid är nyfiken på nya tekniker och upplevelser av färg. Majbrittsdotter experimenterar mycket med både akryl\, kol\, pastell och textilier. I textila tavlorna återanvänds tyger och garner för att värna om mijön och återbruk. I hennes konstnärskap vill hon framförallt skapa kraftfulla tavlor med starka färger som ger glädje\, spänning\, fantasi och lite mystik i tillvaron. Motiven varierar mellan fantasi och verklighet.\nHemsida: https://majbrittsdotter.se\n\n\n\n ANNIKA ERNESTRÖM är konstnären som sedan unga år ritat och målat för att uttrycka instängda känslor. Hon packade ofta ihop färg och penslar för att i timtal stå ute i det fria och avbilda landskapet\, barken på ett träd eller en mossig stubbe.\nSenare i livet väcktes en längtar efter att förstå och lära känna sig själv på ett djupare plan – och till stor glädje fann hon metoden Vedic Art – starten på en läkande och frigörande process. Nu handlar det inte längre om att avbilda. Att måla för Erneström är en upptäcktsresa i det undermedvetna som utvecklar både konsten och livet.\nHemsida: http://www.konst.se/ernestrom\n\n\n\nI ateljén visar Erneström sina akrylmåningar och finns på plats för att samtala och berätta mer om sin konst. Det gör hon tillsammans med Majbrittsdotter som också visar sina målningar och även textila arbeten.\n\n\n\nVälkommen in!
URL:https://gamlakraftstationen.se/evenemang/atelje-artists-in-action-ann-katrin-majbrittsdotter-annika-ernestrom/
LOCATION:Gamla Kraftstationen\, Bruksvägen 10E\, Deje\, 66932\, Sverige
CATEGORIES:Ateljé Artists in action
ATTACH;FMTTYPE=image/png:https://gamlakraftstationen.se/wp-content/uploads/2024/04/Artist-in-action.png
ORGANIZER;CN="Gamla Kraftstationen":MAILTO:info@gamlakraftstationen.se
END:VEVENT
END:VCALENDAR