BEGIN:VCALENDAR
VERSION:2.0
PRODID:-//Gamla Kraftstationen i Deje - ECPv6.11.0.1//NONSGML v1.0//EN
CALSCALE:GREGORIAN
METHOD:PUBLISH
X-ORIGINAL-URL:https://gamlakraftstationen.se
X-WR-CALDESC:Händelser för Gamla Kraftstationen i Deje
REFRESH-INTERVAL;VALUE=DURATION:PT1H
X-Robots-Tag:noindex
X-PUBLISHED-TTL:PT1H
BEGIN:VTIMEZONE
TZID:Europe/Paris
BEGIN:DAYLIGHT
TZOFFSETFROM:+0100
TZOFFSETTO:+0200
TZNAME:CEST
DTSTART:20250330T010000
END:DAYLIGHT
BEGIN:STANDARD
TZOFFSETFROM:+0200
TZOFFSETTO:+0100
TZNAME:CET
DTSTART:20251026T010000
END:STANDARD
END:VTIMEZONE
BEGIN:VEVENT
DTSTART;TZID=Europe/Paris:20250529T110000
DTEND;TZID=Europe/Paris:20250529T160000
DTSTAMP:20260423T134240
CREATED:20250416T095503Z
LAST-MODIFIED:20250416T100428Z
UID:10313-1748516400-1748534400@gamlakraftstationen.se
SUMMARY:Vernissage no.2. 29 maj
DESCRIPTION:Välkommen till säsongens andra vernissage.\n29 maj kl 11-16.\n  \nVi välkomnar nya utställare:\nAnnika Eriksdotter 29 maj – 31 juli \nAnne-Marie Sjögren 29 maj – 3 juli \nHavsglas – Maria Meissner Berg 29 maj – 28 september \nKakan Hermansson 29 maj – 28 september \nMalin Uhlén 29 maj – 3 juli \nMy Nilzén 29 maj – 31 juli \n  \nLäs mer om årets utställning här
URL:https://gamlakraftstationen.se/evenemang/vernissage-no-2-29-maj/
LOCATION:Gamla Kraftstationen\, Bruksvägen 10E\, Deje\, 66932\, Sverige
CATEGORIES:Vernissage
ATTACH;FMTTYPE=image/png:https://gamlakraftstationen.se/wp-content/uploads/2025/04/Vernissage-Gamla-Kraftstationen-29-maj.png
ORGANIZER;CN="Gamla Kraftstationen":MAILTO:info@gamlakraftstationen.se
END:VEVENT
END:VCALENDAR