BEGIN:VCALENDAR
VERSION:2.0
PRODID:-//Gamla Kraftstationen i Deje - ECPv6.11.0.1//NONSGML v1.0//EN
CALSCALE:GREGORIAN
METHOD:PUBLISH
X-WR-CALNAME:Gamla Kraftstationen i Deje
X-ORIGINAL-URL:https://gamlakraftstationen.se
X-WR-CALDESC:Händelser för Gamla Kraftstationen i Deje
REFRESH-INTERVAL;VALUE=DURATION:PT1H
X-Robots-Tag:noindex
X-PUBLISHED-TTL:PT1H
BEGIN:VTIMEZONE
TZID:Europe/Paris
BEGIN:DAYLIGHT
TZOFFSETFROM:+0100
TZOFFSETTO:+0200
TZNAME:CEST
DTSTART:20250330T010000
END:DAYLIGHT
BEGIN:STANDARD
TZOFFSETFROM:+0200
TZOFFSETTO:+0100
TZNAME:CET
DTSTART:20251026T010000
END:STANDARD
END:VTIMEZONE
BEGIN:VEVENT
DTSTART;TZID=Europe/Paris:20250605T180000
DTEND;TZID=Europe/Paris:20250605T200000
DTSTAMP:20260423T134101
CREATED:20250517T105712Z
LAST-MODIFIED:20250517T105712Z
UID:11109-1749146400-1749153600@gamlakraftstationen.se
SUMMARY:Bokkväll 5 juni: Folk och fjärilar - Mikael Skalstad
DESCRIPTION:BOKKVÄLL med författare och naturfotografen Mikael Skalstad. \n\nTORSDAG 5 juni kl.18.00 GAMLA KRAFTSTATIONEN \n  \n\n”Folk och fjärilar” \n \nNaturfotografen och författaren Mikael Skalstad berättar och visar bilder kring sin nya bok Folk och fjärilar. \nVi får följa med på en resa bland fjärilar\, blommande ängar och äldre tiders kvinnliga entomologer. \nDe flesta av Mikaels bilder är för övrigt tagna i Mölnbackaområdet. \nTips på bra fjärilslokaler och frågestund hinns också med. \nMöjlighet att köpa boken till mässpris. \n\n\nEntré 95 kr (samma som till konsthallen)eller fritt för dig som har Lilla eller Stora Kretskortet.\n\nIngen förbokning men obligatorisk incheckning i receptionen vid ankomst.\nKonsthallarna & shopen är öppen.\n\nCulinarum Café erbjuder kaffe\, fika & kvällsmacka.Beställ i receptionen när du checkar in.\n\nFrågor: info@gamlakraftstationen.se eller 072-589 00 71\n\n\n\n\n\n 
URL:https://gamlakraftstationen.se/evenemang/bokkvall-5-juni-folk-och-fjarilar-mikael-skalstad/
LOCATION:Gamla Kraftstationen\, Bruksvägen 10E\, Deje\, 66932\, Sverige
CATEGORIES:Event
ATTACH;FMTTYPE=image/jpeg:https://gamlakraftstationen.se/wp-content/uploads/2025/05/Hagtorn-A-13.jpg
ORGANIZER;CN="Gamla Kraftstationen":MAILTO:info@gamlakraftstationen.se
END:VEVENT
END:VCALENDAR