BEGIN:VCALENDAR
VERSION:2.0
PRODID:-//Gamla Kraftstationen i Deje - ECPv6.11.0.1//NONSGML v1.0//EN
CALSCALE:GREGORIAN
METHOD:PUBLISH
X-WR-CALNAME:Gamla Kraftstationen i Deje
X-ORIGINAL-URL:https://gamlakraftstationen.se
X-WR-CALDESC:Händelser för Gamla Kraftstationen i Deje
REFRESH-INTERVAL;VALUE=DURATION:PT1H
X-Robots-Tag:noindex
X-PUBLISHED-TTL:PT1H
BEGIN:VTIMEZONE
TZID:Europe/Paris
BEGIN:DAYLIGHT
TZOFFSETFROM:+0100
TZOFFSETTO:+0200
TZNAME:CEST
DTSTART:20250330T010000
END:DAYLIGHT
BEGIN:STANDARD
TZOFFSETFROM:+0200
TZOFFSETTO:+0100
TZNAME:CET
DTSTART:20251026T010000
END:STANDARD
END:VTIMEZONE
BEGIN:VEVENT
DTSTART;VALUE=DATE:20250624
DTEND;VALUE=DATE:20250630
DTSTAMP:20260423T212758
CREATED:20250513T105544Z
LAST-MODIFIED:20250623T123558Z
UID:11051-1750723200-1751241599@gamlakraftstationen.se
SUMMARY:Ateljé Artists in action: Sandra Hultsved
DESCRIPTION:Succén med ateljé Artists in Action fortsätter! \nHär kan du som besökare uppleva konstnärer i arbete. \nDå och då kan du även möta arbetande konstnärer i ateljé Makerstation\, den kollektiva ateljén. \nMöt Sandra Hultsved i ateljén Artists in action 24-29 juni kl 11-16. \nSandra Hultsved är en självlärd konstnär\, född 1989 i Karlstad\, nu verksam i Östra Deje. Hon skapar sin konst främst i olja\, blyerts och bläck. Skapandet blev en form av terapi för att kunna uttrycka svåra tankar och undermedvetna känslor. De senaste temat kretsar kring klimatångest och vad vi lämnar efter oss som människor. Med influenser ifrån både de gamla mästarnas klassiska tekniker och den moderna lowbrow konströrelsen\, kombinerat med hennes egen fantasi och experimenterande med tekniker. Naturen – särskilt de värmländska skogarna där hon växte upp\, är av stor inspiration. \nSandra kommer att fortsätta sin serie med olja målat på träbitar. De är mellan 10-20 cm i diameter. Idén är att du som besökare ska kunna få se processen från start till slut\, därav de mindre formatet. Det går även bra att göra sig en specialbeställning på plats. \nDROP IN WORKSHOP lördag 28 juni kl 14.00 \nSandra kommer att hålla en workshop på lördagen kl 14\, för den som vill få inblick i hur man tecknar realistiskt med blyerts. Ingen anmälan eller avgift krävs! Vill man fördjupa sig mer kommer hon även hålla längre kurs till hösten! \nhttps://sandrahultsved.com/ \nVälkommen!
URL:https://gamlakraftstationen.se/evenemang/atelje-artists-in-action-sandra-hultsved/
LOCATION:Gamla Kraftstationen\, Bruksvägen 10E\, Deje\, 66932\, Sverige
CATEGORIES:Ateljé Artists in action
ATTACH;FMTTYPE=image/jpeg:https://gamlakraftstationen.se/wp-content/uploads/2025/05/Sandra-Hultsved-Artists-in-action.jpeg
ORGANIZER;CN="Gamla Kraftstationen":MAILTO:info@gamlakraftstationen.se
END:VEVENT
BEGIN:VEVENT
DTSTART;TZID=Europe/Paris:20250628T130000
DTEND;TZID=Europe/Paris:20250628T150000
DTSTAMP:20260423T212758
CREATED:20250626T144803Z
LAST-MODIFIED:20250626T144829Z
UID:11917-1751115600-1751122800@gamlakraftstationen.se
SUMMARY:Annika Eriksdotter besöker utställningen lördag 28 juni kl 13-15
DESCRIPTION:ANNIKA ERIKSDOTTER på besök i sin utställning LÖRDAG 28 juni kl 13-15. Annika är på plats och berättar om projektet Höljes Rallycross Backstage – utställning som är byggd på fotografier från hennes nyutgivna bok med samma namn. Annika signerar böcker när hon besöker utställningen\, och vill gärna möta dig som besökare.\nBoken kostar 200 kr. Välkommen! \nLäs mer om Annika här: \n📸🚗 RALLYCROSSEN BEHIND THE SCENES! \nANNIKA ERIKSDOTTER – konstnären och fotografen från Karlstad som bjuder action\, fart och fest från Höljes Rallycross Backstage. \nAnnika Eriksdotter är en mångsidig konstnär från Karlstad. Hon är uppvuxen i en konstnärsfamilj så det kreativa har alltid omgivit henne som något naturligt. Eriksdotter jobbar heltid som konstnär och utforskar olika material och uttrycksformer\, som exempelvis fotografi\, broderi och berättande. Den röda tråden i hennes konst- och bokprojekt är naturen\, människan och vardagen och berör allt från den djupa skogens tystnad och familjens värme\, till mörkret och tvivlet i våra inre liv till den fartfyllda världen kring motorsport. \nEriksdotter har flerfaldigt belönats med utmärkelser\, finns representerad i det offentliga rummet med inköpta verk av såväl kommuner som regioner\, mm\, och nyligen varit aktuell som Artist in residence på Biblioteksbussen i Säffle\, där hon arbetat med projektet ”Alla dessa berättelser – Rapport från en biblioteksbuss” tillsammans med konstnär Kerstin Wessberg. \nEriksdotter presenterar nu en utställning där du kan förvänta dig action\, fart och fest genom ett urval fotografier från nyutgivna boken ”Höljes Rallycross Backstage”. Med humor och värme tar bilderna dig med bakom kulisserna på rallycrossen\, där bilar\, tävlingar och besökare blandas med den omkringliggande naturen och de vidsträckta vyerna i det nordvärmländska landskapet. \nBoken finns att köpa i Gamla Kraftstationens shop och Annika signerar på plats under sitt besök i utställningen lördag 28 juni kl 13-15. \n📸 Bild nr 4 är nytaget foto idag från Finnskoga motorbana. Annika levererar dit sina böcker inför rallycross VM nästa helg. På bilden till vänster Morgan Östlund\, General manager för rallycross VM\, och till höger Christer Jönsson\, Finnskoga MK. \nUtställningsperiod 29 maj – 31 juli\nwww.annikaeriksdotter.com\n@annikaeriksdotter
URL:https://gamlakraftstationen.se/evenemang/annika-eriksdotter-besoker-utstallningen-lordag-28-juni-kl-13-15/
LOCATION:Gamla Kraftstationen\, Bruksvägen 10E\, Deje\, 66932\, Sverige
CATEGORIES:Event,Konstutställning
ATTACH;FMTTYPE=image/jpeg:https://gamlakraftstationen.se/wp-content/uploads/2025/04/Annika-Eriksdotter-Pa-banan-i-Holjes-Foto-J-E-Petersson-scaled.jpg
ORGANIZER;CN="Gamla Kraftstationen":MAILTO:info@gamlakraftstationen.se
END:VEVENT
END:VCALENDAR