BEGIN:VCALENDAR
VERSION:2.0
PRODID:-//Gamla Kraftstationen i Deje - ECPv6.11.0.1//NONSGML v1.0//EN
CALSCALE:GREGORIAN
METHOD:PUBLISH
X-WR-CALNAME:Gamla Kraftstationen i Deje
X-ORIGINAL-URL:https://gamlakraftstationen.se
X-WR-CALDESC:Händelser för Gamla Kraftstationen i Deje
REFRESH-INTERVAL;VALUE=DURATION:PT1H
X-Robots-Tag:noindex
X-PUBLISHED-TTL:PT1H
BEGIN:VTIMEZONE
TZID:Europe/Paris
BEGIN:DAYLIGHT
TZOFFSETFROM:+0100
TZOFFSETTO:+0200
TZNAME:CEST
DTSTART:20250330T010000
END:DAYLIGHT
BEGIN:STANDARD
TZOFFSETFROM:+0200
TZOFFSETTO:+0100
TZNAME:CET
DTSTART:20251026T010000
END:STANDARD
END:VTIMEZONE
BEGIN:VEVENT
DTSTART;VALUE=DATE:20250729
DTEND;VALUE=DATE:20250804
DTSTAMP:20260423T212736
CREATED:20240706T150135Z
LAST-MODIFIED:20250630T104051Z
UID:8229-1753747200-1754265599@gamlakraftstationen.se
SUMMARY:Ateljé Artists in action: Carolina Levén
DESCRIPTION:Succén med ateljé Artists in Action fortsätter! \nHär kan du som besökare uppleva konstnärer i arbete. \nDå och då kan du även möta arbetande konstnärer i ateljé Makerstation\, den kollektiva ateljén. \nMöt Carolina Levén i ateljén Artists in action tisdag – söndag 29 juli – 3 augusti kl 11-16. \n\nCarolina Levén är konstnären som älskar blommor\, katter\, kaffe och att resa.\nUnder sina resor inspireras hon av det vackra i naturen och speciellt blommor med magiska färgpaletter och vackra former.\n\n\nCarolina deltar regelbundet på utställningar och har bland annat ställt ut runt om i Sverige och världen.\n\n\n\nCarolina målar framförallt i akryl och ofta är målningarna i stora format. Ibland använder hon sig av tekniken Fluid Art där färgerna flyter fritt och målningen skapas på en och samma dag. Men även målningar med mer traditionellt måleri kommer att visas när Carolina intar Ateljé Artist in action. Förbered dig på färgstark konst med inspiration från Värmland\, Barcelona\, Australien och Bali.\n\n\nVälkomna! \n \n 
URL:https://gamlakraftstationen.se/evenemang/atelje-artists-in-action-carolina-leven-2/
LOCATION:Gamla Kraftstationen\, Bruksvägen 10E\, Deje\, 66932\, Sverige
CATEGORIES:Ateljé Artists in action
ATTACH;FMTTYPE=image/jpeg:https://gamlakraftstationen.se/wp-content/uploads/2025/03/Carolia-Leven-Gamla-Kraftstationen-scaled.jpeg
ORGANIZER;CN="Gamla Kraftstationen":MAILTO:info@gamlakraftstationen.se
END:VEVENT
BEGIN:VEVENT
DTSTART;TZID=Europe/Paris:20250731T130000
DTEND;TZID=Europe/Paris:20250731T160000
DTSTAMP:20260423T212736
CREATED:20240313T130146Z
LAST-MODIFIED:20250729T151159Z
UID:7442-1753966800-1753977600@gamlakraftstationen.se
SUMMARY:Världsbroderidagen 31 juli
DESCRIPTION:Drop in WORKSHOP I FRITT BRODERI 31 juli kl 13-16 \nVälkommen att delta i en workshop i fritt broderi. Titta på eller anslut dig till gemenskapen och prova själv.  \nLedare: Täcklebo Broderiakademi\, Karlstadgruppen. Britta Stolpe och Gudrun Midebo. \nKostnad: Ingen avgift. Det finns gratis prova-på-material. Om du har eget broderimaterial får du självklart ta med det. \nÅlder: För både vuxna och barn. \nIngen åldersgräns\, men barn under 10 år deltar i vuxens sällskap. \n  \nTäcklebo Broderiakademi\, Karlstagruppen är en av 50 lokalgrupper  i Sverige.  \nMed nål och tråd för en bättre värld \nTäcklebo Broderiakademi är en obunden och ideell förening för den som gillar att brodera. Här finns både yrkesverksamma brodöser och nybörjare. tacklebony.wordpress.com \nKarlstadgruppen träffas 3:e torsdagen i månaden kl 18-21 hos Studieförbundet Bilda\, Drottninggatan 40\, Karlstad.  \nKontaktpersoner:  \nGudrun Midebo 076-7960711  \nBritta Stolpe 072-211 20 74  \n 
URL:https://gamlakraftstationen.se/evenemang/varldsbroderidagen/
LOCATION:Gamla Kraftstationen\, Bruksvägen 10E\, Deje\, 66932\, Sverige
CATEGORIES:Workshop
ATTACH;FMTTYPE=image/jpeg:https://gamlakraftstationen.se/wp-content/uploads/2024/03/Broderi-Gamla-Kraftstationen-scaled.jpg
ORGANIZER;CN="Gamla Kraftstationen":MAILTO:info@gamlakraftstationen.se
END:VEVENT
END:VCALENDAR