BEGIN:VCALENDAR
VERSION:2.0
PRODID:-//Gamla Kraftstationen i Deje - ECPv6.11.0.1//NONSGML v1.0//EN
CALSCALE:GREGORIAN
METHOD:PUBLISH
X-ORIGINAL-URL:https://gamlakraftstationen.se
X-WR-CALDESC:Händelser för Gamla Kraftstationen i Deje
REFRESH-INTERVAL;VALUE=DURATION:PT1H
X-Robots-Tag:noindex
X-PUBLISHED-TTL:PT1H
BEGIN:VTIMEZONE
TZID:Europe/Paris
BEGIN:DAYLIGHT
TZOFFSETFROM:+0100
TZOFFSETTO:+0200
TZNAME:CEST
DTSTART:20250330T010000
END:DAYLIGHT
BEGIN:STANDARD
TZOFFSETFROM:+0200
TZOFFSETTO:+0100
TZNAME:CET
DTSTART:20251026T010000
END:STANDARD
END:VTIMEZONE
BEGIN:VEVENT
DTSTART;VALUE=DATE:20250805
DTEND;VALUE=DATE:20250809
DTSTAMP:20260423T231308
CREATED:20240706T145816Z
LAST-MODIFIED:20250630T105108Z
UID:8221-1754352000-1754697599@gamlakraftstationen.se
SUMMARY:Ateljé Artists in action: Petter Hjerpe
DESCRIPTION:Succén med ateljé Artists in Action fortsätter! \nHär kan du som besökare uppleva konstnärer i arbete. \nDå och då kan du även möta arbetande konstnärer i den kollektiva ateljén Makerstation. \nMöt Petter Hjerpe i ateljé Artists in action tisdag-fredag 5 – 8 augusti kl 11-16. \n\nPetter Hjerpe beskriver sig själv som en bruksson. Uppvuxen i och arbetar deltid som bildlärare i Munkfors. Andra halvan säljer han tavlor och spelar i hårdrocksbandet Majestica.\n\n\n\nPetters uppväxt är präglad av hockey\, hårdrock och fiske och det är den kombinationen som syns i han mina tavlor. Hårdrocken han lyssnade på var pampig och texterna och omslagen hade ofta fantasy-tema. Så dessa skivomslag inspirerade honom att skapa egna omslag till alla demos han spelade in med kompisarna. Mitt i allt detta kom även Sagan om Ringen-filmerna som gav det konstnärliga uttrycket ytterligare en dimension.\nOfta finns ett litet barn med i Petters egna fantasymålningar.\n\nPetter berättar: ”Barnet representerar en del av min livliga fantasi som ung. Man kan tolka det lite som man vill när man ser det. Men för mig gör det motiven mer spännande och får en att fundera och kanske relatera.\nNaturen man upplevde efter alla fisketurer efter skogsbäckar\, älvar och tjärnar inspirerade den andra halvan av min konst. Det mer natursköna och vackra i våra svenska skogar.”\n\n\n\nPetter jobbar med tre kategorier av konst; Egna motiv direkt ur fantasin\, ofta djupa skogar och fantasy. Den andra kategorin är naturen\, ofta vattendrag. Men senare tid har det även blivit en del porträtt med motiv på barn eller djur på beställning av privatpersoner. Som om inte det vore nog ägnar han sig lite åt Airbrush och lackerar exempelvis hockeymasker.\n\n\nNär du besöker Petter i Ateljé Artist in action kan du förvänta dig att\, förutom mötet med konstnären själv\, få uppleva främst oljemåleri av natursköna miljöer från närområdet men också trolsk fantasy.\n\nVälkommen in till ett nytt konstnärsmöte!\n\n 
URL:https://gamlakraftstationen.se/evenemang/atelje-artists-in-action-petter-hjerpe/
LOCATION:Gamla Kraftstationen\, Bruksvägen 10E\, Deje\, 66932\, Sverige
CATEGORIES:Ateljé Artists in action
ATTACH;FMTTYPE=image/jpeg:https://gamlakraftstationen.se/wp-content/uploads/2024/07/Petter-Hjerpe-Gamla-Kraftstationen.jpeg
ORGANIZER;CN="Gamla Kraftstationen":MAILTO:info@gamlakraftstationen.se
END:VEVENT
BEGIN:VEVENT
DTSTART;TZID=Europe/Paris:20250808T190000
DTEND;TZID=Europe/Paris:20250808T210000
DTSTAMP:20260423T231308
CREATED:20250726T101657Z
LAST-MODIFIED:20250726T102209Z
UID:12490-1754679600-1754686800@gamlakraftstationen.se
SUMMARY:Augustijazz - Christina Gustafsson & Hans Backenroth trio
DESCRIPTION:Häng med på ett fulländat musikaliskt möte där fingertoppskänsla och finstämda toner möter svängig glädje och lekfullhet!\nFyra välmeriterade namn inom jazzen\, alla med värmlandsanknytning\, bjuder på jazz\, visor & blues.\nChristina Gustafsson – sångHans Backenroth – basMagnus Dölerud – saxofonDaniel Nolgård – piano\n\nInsläpp: 18.30Konsertstart: 19.00Sluttid: 21.00 inkluderar paus (sluttiden är ungefärlig)\nBiljetter: Ticketmaster Begränsat antal platser.Konserten är inomhus.Ej numrerade platser\nIngen åldersgräns.\n\nVill du äta något? Då kan du boka bord från kl. 17.30.Middag inkl dryck 195 kr/p. Serveras före konserten\, från kl. 17.30.072-589 00 71\, bokning@gamlakraftstationen.seVi erbjuder även pausfika. Kvällsmacka inkl dryck: 125 kr/p. Bokas i entrén. Serveras i pausen.\n\nKonserten ingår i konceptet”The Gamla Kraftstationen Music Club”– exklusiva konserter i unik industrimiljöwww.gamlakraftstationen.se
URL:https://gamlakraftstationen.se/evenemang/augustijazz-christina-gustafsson-hans-backenroth-trio/
LOCATION:Gamla Kraftstationen\, Bruksvägen 10E\, Deje\, 66932\, Sverige
CATEGORIES:Konsert
ATTACH;FMTTYPE=image/png:https://gamlakraftstationen.se/wp-content/uploads/2025/07/Augustijazz-8aug-Gamla-Kraftstationen.png
ORGANIZER;CN="Gamla Kraftstationen":MAILTO:info@gamlakraftstationen.se
END:VEVENT
END:VCALENDAR