BEGIN:VCALENDAR
VERSION:2.0
PRODID:-//Gamla Kraftstationen i Deje - ECPv6.11.0.1//NONSGML v1.0//EN
CALSCALE:GREGORIAN
METHOD:PUBLISH
X-ORIGINAL-URL:https://gamlakraftstationen.se
X-WR-CALDESC:Händelser för Gamla Kraftstationen i Deje
REFRESH-INTERVAL;VALUE=DURATION:PT1H
X-Robots-Tag:noindex
X-PUBLISHED-TTL:PT1H
BEGIN:VTIMEZONE
TZID:Europe/Paris
BEGIN:DAYLIGHT
TZOFFSETFROM:+0100
TZOFFSETTO:+0200
TZNAME:CEST
DTSTART:20250330T010000
END:DAYLIGHT
BEGIN:STANDARD
TZOFFSETFROM:+0200
TZOFFSETTO:+0100
TZNAME:CET
DTSTART:20251026T010000
END:STANDARD
END:VTIMEZONE
BEGIN:VEVENT
DTSTART;VALUE=DATE:20250821
DTEND;VALUE=DATE:20250825
DTSTAMP:20260424T003331
CREATED:20250630T101455Z
LAST-MODIFIED:20250630T101605Z
UID:11966-1755734400-1756079999@gamlakraftstationen.se
SUMMARY:Ateljé Artists in action: Sofia Linder
DESCRIPTION:Succén med ateljé Artists in Action fortsätter! \nHär kan du som besökare uppleva konstnärer i arbete. \nDå och då kan du även möta arbetande konstnärer i ateljé Makerstation\, den kollektiva ateljén. \nMöt Sofia Linder i ateljén Artists in action 21-24 augusti kl 11-16. \nSofia Linder är den experimentlystna konstnären från Skoghall som målar med känslornas många nyanser. Sofia har sin ateljé på Norragalleriet i Karlstad – där det skapas poesi\, måleri\, skulpturer\, foton och där alla känslor är välkomna för att blomma ut i något kreativt.  \nGenom åren har Sofia förkovrat sig i en rad konstkurser. Hennes nyfikenhet och experimentlusta har lett henne framåt som konstnär. Sofia är offentligt representerad i flera kommuner och regioner. Hon är även aktiv med utställningar runt om i lande\, men även en hel del kurser för bland annat barn\, ungdomar\, stadsmissionen och PRO. Sofia har en längtan efter att visa andra hur helande skapandet kan vara\, att det hjälper oss att känna glädje\, gemenskap\, öppna upp och slappna av.  \nI ateljén välkomnar Sofia in er till originalverk i mixed media samt fotografier och fine art print. Välkommen in att hälsa på Sofia i ateljén torsdag-söndag 21-24 augusti kl 11-16. \nVälkomna!
URL:https://gamlakraftstationen.se/evenemang/atelje-artists-in-action-sofia-linder/
LOCATION:Gamla Kraftstationen\, Bruksvägen 10E\, Deje\, 66932\, Sverige
CATEGORIES:Ateljé Artists in action
ATTACH;FMTTYPE=image/jpeg:https://gamlakraftstationen.se/wp-content/uploads/2025/06/Sofia-Linder-Artists-in-action-Gamla-Kraftstationen-scaled.jpeg
ORGANIZER;CN="Gamla Kraftstationen":MAILTO:info@gamlakraftstationen.se
END:VEVENT
END:VCALENDAR