BEGIN:VCALENDAR
VERSION:2.0
PRODID:-//Gamla Kraftstationen i Deje - ECPv6.11.0.1//NONSGML v1.0//EN
CALSCALE:GREGORIAN
METHOD:PUBLISH
X-ORIGINAL-URL:https://gamlakraftstationen.se
X-WR-CALDESC:Händelser för Gamla Kraftstationen i Deje
REFRESH-INTERVAL;VALUE=DURATION:PT1H
X-Robots-Tag:noindex
X-PUBLISHED-TTL:PT1H
BEGIN:VTIMEZONE
TZID:Europe/Paris
BEGIN:DAYLIGHT
TZOFFSETFROM:+0100
TZOFFSETTO:+0200
TZNAME:CEST
DTSTART:20250330T010000
END:DAYLIGHT
BEGIN:STANDARD
TZOFFSETFROM:+0200
TZOFFSETTO:+0100
TZNAME:CET
DTSTART:20251026T010000
END:STANDARD
END:VTIMEZONE
BEGIN:VEVENT
DTSTART;VALUE=DATE:20250904
DTEND;VALUE=DATE:20250908
DTSTAMP:20260423T213158
CREATED:20250610T093939Z
LAST-MODIFIED:20250903T082742Z
UID:8004-1756944000-1757289599@gamlakraftstationen.se
SUMMARY:Ateljé Artist in action: Lerkällarn\, Stina Andersson
DESCRIPTION:Succén med ateljé Artists in Action fortsätter! \nHär kan du som besökare uppleva konstnärer i arbete. \nDå och då kan du även möta arbetande konstnärer i ateljé Makerstation\, den kollektiva ateljén. \nMöt Lerkällarn i ateljén Artists in action torsdag – söndag 4-7 september. \n\n💚🎨 LERKÄLLARN\, STINA ANDERSSON flyttar in i ateljé Artists in action! \n\n\n \n\n\n💚🎨 Ateljén och utställning öppen torsdag-söndag kl 11-16. \n\n\nStina är på plats:\n\n\nLördag kl 11-16\n\n\nSöndag kl 11-16\n\n\n \n\n\n💚🎨 Stina\, som är i stort sett självlärd\, är helt enkelt född med det kreativa inom sig och skapandet har alltid varit helt en i livet. Allt från idéerna till planeringen\, skisserna\, mönstren\, ritningarna och sedan själva görandet. I den kreativa processen flödar såväl tankar som känslor. Stina förklarar;\n\n\n– Det är ett sätt för mig att rensa huvudet\, att bara vara. Vill hålla mig till mottot att skapa genom lust och känsla utan prestationskrav. Livet och samhället ställer ändå så höga krav på oss så skapandet ska få vara min fristad från krav.\n\n\n \n\n\n💚🎨 Stina välkomnar alla besökare att kika in i ateljén och se vad hon har för sig. Förvänta dig mest keramik och kanske lite måleri.\n\n\n \n\n\n💚🎨 Värt att veta: Stina är dessutom en flitig medarbetare här på Gamla Kraftstationen. Hon har varit aktiv här i många år. Det är vi glada för!\n\n\n \n\n\nhttps://www.instagram.com/lerkallarn/\n\n 
URL:https://gamlakraftstationen.se/evenemang/atelje-artist-in-action-lerkallarn-stina-andersson/
LOCATION:Gamla Kraftstationen\, Bruksvägen 10E\, Deje\, 66932\, Sverige
CATEGORIES:Ateljé Artists in action
ATTACH;FMTTYPE=image/jpeg:https://gamlakraftstationen.se/wp-content/uploads/2025/04/Lerkallarn-Stina-Andersson-i-atelje-Gamla-Kraftstationen.jpeg
ORGANIZER;CN="Gamla Kraftstationen":MAILTO:info@gamlakraftstationen.se
END:VEVENT
BEGIN:VEVENT
DTSTART;TZID=Europe/Paris:20250907T100000
DTEND;TZID=Europe/Paris:20250907T160000
DTSTAMP:20260423T213158
CREATED:20250804T113444Z
LAST-MODIFIED:20250814T075903Z
UID:12543-1757239200-1757260800@gamlakraftstationen.se
SUMMARY:Sashiko-Boro kurs 7 september - FULLBOKAT
DESCRIPTION:Vi välkomnar att boka plats på kurs i SASHIKO med kursledaren LENA Andersson.\n  \n\nAntal tillfällen: 1 gång: 7 september kl 10-16 \n\n\nTid: 6 timmar \nPlats: Gamla Kraftstationen\, annexet våning 2. \n\nKursinnehåll: \nSashiko är en japansk textil lagnings – och förstärkningsteknik. Tekniken bygger på att ta tillvara och återbruka. \nDu får lära dej grunderna och hur man bygger upp mönster. Vi gör stygnövningar på tyg med garner jag har med. Sen komponerar du ett Boro broderi av dina medhavda lappar. Som du sen kan montera till en liten väska eller påse. Prova på tyger ingår i kursen\, nålar finns att låna eller att köpa (se längre ned). \nSashiko = Små stygn – Små hugg – som vår svenska förstygn. \nBoro  = Sliten- Trasor- Laga/Lappa. Förstärker tyget med stygn. \nHitomizasi= Med ytterligare stygn binder vi samman och skapar mönster. \nTa med: \n\nUndertyg: ca 30 x 30 cm från ett slitet urtvättat lakan eller handduk.\nTyglappar: Bomull och eller Linne\, i olika storlekar\, färger och mönster.\nBroderi garn: Lämpliga garner är Pärlgarn 5\, olika färger.\nVirkgarn 8/4\, 12/3 i olika färger.\nMärkgarn.\nNålar: Har du Sashiko nålar ta med. Synålar för tråckling.\nBroderi sax\nLiten linjal\, Liten vinkelhake\nTråckeltråd\n\nTill Försäljning: \n\nNålbrev med två Sashiko nålar. Sashikogarn Vitt en docka. Tyg och garn för stygn övningarna. För detta betalar du 200:-\nHar också ”Lappkitt” för 50:- om du inte har lappar men vill testa att brodera tekniken.\n\n\nPris: 695 kr/person. Betalning görs på plats. \nFika: I kursen ingår ankomstfika i form av macka och kaffe/te. \nAnmälan: ANMÄLAN ÄR STÄNGD DÅ DET ÄR FULLBOKAT! \nKursledare: Lena Andersson \nVärmländska från Kil som sedan 25 år bor i Skåne. Mitt yrkesliv som Förskollärare i Kil\, Museiintendet på Halmenshus och Hemslöjdskonsulent i Västra Götaland\, Skåne och Blekinge\, har handlat om att inspirera och lära andra. När jag så lämnade yrkeslivet ville jag testa sådant som jag inte haft tid att gör tidigare. Så för åtta år sen gick jag en distans kurs i ”Brodera Sashiko” på Västerbergs Folkhöskola. Sen dess är jag uppslukad av tekniken. Har utvecklat den och ”gör den på mitt sätt” \nÅterbruket har alltid funnits med mej och i Sashiko-Boro får mina ”Lappar” ett nytt liv. 2020 blev jag antagen till Liljevalch Vårsalong \, med tre Sashiko-Boro verk. \n@lenaa.52.   lenaanderssonmail@gmail.com \nVälkommen med din bokning!
URL:https://gamlakraftstationen.se/evenemang/sashiko-boro-kurs/
LOCATION:Gamla Kraftstationen\, Bruksvägen 10E\, Deje\, 66932\, Sverige
CATEGORIES:Kurs och utbildning
ATTACH;FMTTYPE=image/jpeg:https://gamlakraftstationen.se/wp-content/uploads/2025/08/0DA5B069-0DA3-4CE1-B237-598CD4C813DF.jpg
ORGANIZER;CN="Gamla Kraftstationen":MAILTO:info@gamlakraftstationen.se
END:VEVENT
END:VCALENDAR