BEGIN:VCALENDAR
VERSION:2.0
PRODID:-//Gamla Kraftstationen i Deje - ECPv6.11.0.1//NONSGML v1.0//EN
CALSCALE:GREGORIAN
METHOD:PUBLISH
X-WR-CALNAME:Gamla Kraftstationen i Deje
X-ORIGINAL-URL:https://gamlakraftstationen.se
X-WR-CALDESC:Händelser för Gamla Kraftstationen i Deje
REFRESH-INTERVAL;VALUE=DURATION:PT1H
X-Robots-Tag:noindex
X-PUBLISHED-TTL:PT1H
BEGIN:VTIMEZONE
TZID:Europe/Paris
BEGIN:DAYLIGHT
TZOFFSETFROM:+0100
TZOFFSETTO:+0200
TZNAME:CEST
DTSTART:20250330T010000
END:DAYLIGHT
BEGIN:STANDARD
TZOFFSETFROM:+0200
TZOFFSETTO:+0100
TZNAME:CET
DTSTART:20251026T010000
END:STANDARD
END:VTIMEZONE
BEGIN:VEVENT
DTSTART;VALUE=DATE:20250911
DTEND;VALUE=DATE:20250915
DTSTAMP:20260423T231247
CREATED:20250430T060341Z
LAST-MODIFIED:20250908T085458Z
UID:10729-1757548800-1757894399@gamlakraftstationen.se
SUMMARY:Ateljé Artists in action: Pernilla Carlsson
DESCRIPTION:Succén med ateljé Artists in Action fortsätter! \nHär kan du som besökare uppleva konstnärer i arbete. \nDå och då kan du även möta arbetande konstnärer i ateljé Makerstation\, den kollektiva ateljén. \nMöt Pernilla Carlsson i ateljén Artists in action 11-14 september kl 11-16. \n\nPernilla Carlsson arbetar som akvarellkonstnär och har sin verksamhet i en äldre skolbyggnad – nu Ateljé P – i centrala Grums. Den värmländska naturen är en stor inspirationskälla\, och hennes målningar förmedlar närvaro\, stillhet och känslor. Hon har ställt ut internationellt i bland annat Cannes\, Paris och Monaco\, och var tidigare en av fyra delägare i Hammarö Art Gallery. I Ateljé P visas hennes konst och hon håller även uppskattade kurser.\n\n\nCarlsson är en eftertänksam kreatör med stark känsla för stämning\, ljus och uttryck – för henne är måleriet både en inre resa och en kanal för det ordlösa. Hennes väg är konstnärlig och andlig – skapandet är en källa till glädje och djup kontakt.\n\n\n\nUpplev konst som bjuder in till stillhet\, närvaro och känsla – som en viskning från naturen. Du kan förvänta dig stämningsfulla motiv där ljus och tystnad samspelar\, och där varje penseldrag förmedlar en inre resa.\n\n\nVälkommen att träffa Pernilla i ateljén!
URL:https://gamlakraftstationen.se/evenemang/pernilla-carlsson/
LOCATION:Gamla Kraftstationen\, Bruksvägen 10E\, Deje\, 66932\, Sverige
CATEGORIES:Ateljé Artists in action
ATTACH;FMTTYPE=image/jpeg:https://gamlakraftstationen.se/wp-content/uploads/2025/04/Pernilla-Carlsson--scaled.jpg
ORGANIZER;CN="Gamla Kraftstationen":MAILTO:info@gamlakraftstationen.se
END:VEVENT
BEGIN:VEVENT
DTSTART;TZID=Europe/Paris:20250913T100000
DTEND;TZID=Europe/Paris:20250913T110000
DTSTAMP:20260423T231247
CREATED:20250820T084006Z
LAST-MODIFIED:20250820T084006Z
UID:12920-1757757600-1757761200@gamlakraftstationen.se
SUMMARY:Melodikrysset 13 september
DESCRIPTION:MELODIKRYSSET och GOMORRON!\n\nBörja lördagen med en härlig frukostfika och Melodikrysset hos oss.\nRadion står på och du löser ditt kryss i din mobilapp eller på kryssplaner som finns att få på plats.\n\n\n\n9.00 öppnar vi dörrarna till caféet\n9.45 senast ankomst\n10.03 startar krysset\n\n\n\nIngen föranmälan.\nIngen avgift förutom det du köper i caféet.\n\n\n\nVälkommen hit!
URL:https://gamlakraftstationen.se/evenemang/melodikrysset-13-september/
LOCATION:Gamla Kraftstationen\, Bruksvägen 10E\, Deje\, 66932\, Sverige
CATEGORIES:Event
ATTACH;FMTTYPE=image/png:https://gamlakraftstationen.se/wp-content/uploads/2025/05/Melodikrysset-pa-Gamla-Kraftstationen-sommaren-2025.png
ORGANIZER;CN="Gamla Kraftstationen":MAILTO:info@gamlakraftstationen.se
END:VEVENT
END:VCALENDAR