BEGIN:VCALENDAR
VERSION:2.0
PRODID:-//Gamla Kraftstationen i Deje - ECPv6.11.0.1//NONSGML v1.0//EN
CALSCALE:GREGORIAN
METHOD:PUBLISH
X-ORIGINAL-URL:https://gamlakraftstationen.se
X-WR-CALDESC:Händelser för Gamla Kraftstationen i Deje
REFRESH-INTERVAL;VALUE=DURATION:PT1H
X-Robots-Tag:noindex
X-PUBLISHED-TTL:PT1H
BEGIN:VTIMEZONE
TZID:Europe/Paris
BEGIN:DAYLIGHT
TZOFFSETFROM:+0100
TZOFFSETTO:+0200
TZNAME:CEST
DTSTART:20250330T010000
END:DAYLIGHT
BEGIN:STANDARD
TZOFFSETFROM:+0200
TZOFFSETTO:+0100
TZNAME:CET
DTSTART:20251026T010000
END:STANDARD
END:VTIMEZONE
BEGIN:VEVENT
DTSTART;VALUE=DATE:20250918
DTEND;VALUE=DATE:20250920
DTSTAMP:20260424T005020
CREATED:20240507T223224Z
LAST-MODIFIED:20250908T085802Z
UID:7987-1758153600-1758326399@gamlakraftstationen.se
SUMMARY:Ateljé Artists in action: Tryckerigatan konst & design
DESCRIPTION:Succén med ateljé Artists in Action fortsätter! \nHär kan du som besökare uppleva konstnärer i arbete. \nDå och då kan du även möta arbetande konstnärer i ateljé Makerstation\, den kollektiva ateljén. \n\n VI HÄLSAR TRYCKERIGATAN KONST & DESIGN VÄLKOMNA TILLBAKA TILL ATELJÈ ARTISTS IN ACTION!\nTorsdag-fredag 18-19 september kl 11-15\nUnder torsdagen träffar du Daniel\, Ida och Carola. Under fredagen träffar du Alex\, Karin och Annie.\n\n\n\n Tryckerigatan Konst & Design är en daglig verksamhet för vuxna och består av ett gäng härliga arbetstagare med lika härlig personal. Verkstad och ateljé finns i Forshaga och här finns det stor möjlighet för de som arbetar att utveckla sin kreativitet och sina intressen inom skapande och slöjd. Teknikerna varierar stort liksom materialen.\n\n\nÅterbruk är ett ledord. På senare år har även keramiska verk fått ett större utrymme på Tryckerigatan där det produceras såväl bruksföremål som konstföremål. Under året säljs färdiga alster i deras butik ”Titta in” som finns i Forshaga.\n\n\n\n Gamla Kraftstationen och Tryckerigatan Konst & Design har samarbetat nästan lika länge som Gamla Kraftstationen funnits som kulturarena.\n\n\n\n Bilderna är från när Tryckerigatan intog ateljén sommaren 2024.\n\n\n\n@tittainbutiken
URL:https://gamlakraftstationen.se/evenemang/atelje-artists-in-action-tryckerigatan-konst-design/
LOCATION:Gamla Kraftstationen\, Bruksvägen 10E\, Deje\, 66932\, Sverige
CATEGORIES:Ateljé Artists in action
ATTACH;FMTTYPE=image/jpeg:https://gamlakraftstationen.se/wp-content/uploads/2024/05/Tryckerigatan-Konst-Design-Atelje-Artists-in-action-scaled.jpg
ORGANIZER;CN="Gamla Kraftstationen":MAILTO:info@gamlakraftstationen.se
END:VEVENT
BEGIN:VEVENT
DTSTART;TZID=Europe/Paris:20250920T100000
DTEND;TZID=Europe/Paris:20250920T110000
DTSTAMP:20260424T005020
CREATED:20250820T084044Z
LAST-MODIFIED:20250908T085336Z
UID:12922-1758362400-1758366000@gamlakraftstationen.se
SUMMARY:Melodikrysset 20 september
DESCRIPTION:MELODIKRYSSET och GOMORRON!\n\nBörja lördagen med en härlig frukostfika och Melodikrysset hos oss.\nRadion står på och du löser ditt kryss i din mobilapp eller på kryssplaner som finns att få på plats.\n\n\n\n9.00 öppnar vi dörrarna till caféet\n9.45 senast ankomst\n10.03 startar krysset\n\n\n\nIngen föranmälan.\nIngen avgift förutom det du köper i caféet.\n\n\n\nVälkommen hit!
URL:https://gamlakraftstationen.se/evenemang/12922/
LOCATION:Gamla Kraftstationen\, Bruksvägen 10E\, Deje\, 66932\, Sverige
CATEGORIES:Event
ATTACH;FMTTYPE=image/png:https://gamlakraftstationen.se/wp-content/uploads/2025/05/Melodikrysset-pa-Gamla-Kraftstationen-sommaren-2025.png
ORGANIZER;CN="Gamla Kraftstationen":MAILTO:info@gamlakraftstationen.se
END:VEVENT
BEGIN:VEVENT
DTSTART;TZID=Europe/Paris:20250920T100000
DTEND;TZID=Europe/Paris:20250920T140000
DTSTAMP:20260424T005020
CREATED:20250914T133122Z
LAST-MODIFIED:20250914T133122Z
UID:13287-1758362400-1758376800@gamlakraftstationen.se
SUMMARY:Täljkurs 20 september
DESCRIPTION:🤎 TÄLJKURS 20 september kl. 10-14.\nÄntligen ett prova-på-tillfälle i täljning!\nLedare: Per-Inge Bergh\nPlats: Gamla Kraftstationen kulturområde. \n🤎 Kom och prova att tälja i färskt trä.\nInga förkunskaper behövs.\nMaterial och verktyg finns. \n🤎 Från 12 år (från 10 år i deltagande vuxens sällskap). Begränsat antal platser. \n🤎 250:-/p inkl. smörgåsfika. \n🤎 Annälan senast 17/9 till\nbokning@gamlakraftstationen.se\nUppge namn\, tel.nummer\, ålder och ev. matallergi.
URL:https://gamlakraftstationen.se/evenemang/taljkurs-20-september/
LOCATION:Gamla Kraftstationen\, Bruksvägen 10E\, Deje\, 66932\, Sverige
CATEGORIES:Kurs och utbildning
ATTACH;FMTTYPE=image/png:https://gamlakraftstationen.se/wp-content/uploads/2025/09/Taljkurs-20-sept.png
ORGANIZER;CN="Gamla Kraftstationen":MAILTO:info@gamlakraftstationen.se
END:VEVENT
BEGIN:VEVENT
DTSTART;VALUE=DATE:20250927
DTEND;VALUE=DATE:20250929
DTSTAMP:20260424T005020
CREATED:20250516T121951Z
LAST-MODIFIED:20250909T133339Z
UID:11089-1758931200-1759103999@gamlakraftstationen.se
SUMMARY:Smaka på Värmland 27-28 september 2025
DESCRIPTION:Smaka på Värmland bjuder till en helg fylld av lokala upplevelser hos producenter och mathantverkare. Du kan resa runt i hela Värmland för besök hos allt från köttproducenter\, grönsaksproducenter\, gårdsbutiker\, bagerier\, musterier\, caféer och mycket annat. \nÖppettider\nLördag 27 september kl. 10.00 – 16.00\nSöndag 28 september kl. 10.00 – 16.00 \nInträde\nSmaka på Värmland är gratis för besökare. \nLäs broschyren online här \nLäs uppdaterad information här
URL:https://gamlakraftstationen.se/evenemang/smaka-pa-varmland-27-28-september-2025/
LOCATION:Gamla Kraftstationen\, Bruksvägen 10E\, Deje\, 66932\, Sverige
CATEGORIES:Event
ATTACH;FMTTYPE=image/png:https://gamlakraftstationen.se/wp-content/uploads/2025/05/SPV1.png
ORGANIZER;CN="Gamla Kraftstationen":MAILTO:info@gamlakraftstationen.se
END:VEVENT
BEGIN:VEVENT
DTSTART;TZID=Europe/Paris:20250927T100000
DTEND;TZID=Europe/Paris:20250927T110000
DTSTAMP:20260424T005020
CREATED:20250820T084208Z
LAST-MODIFIED:20250820T084208Z
UID:12924-1758967200-1758970800@gamlakraftstationen.se
SUMMARY:Melodikrysset 27 september
DESCRIPTION:MELODIKRYSSET och GOMORRON!\n\nBörja lördagen med en härlig frukostfika och Melodikrysset hos oss.\nRadion står på och du löser ditt kryss i din mobilapp eller på kryssplaner som finns att få på plats.\n\n\n\n9.00 öppnar vi dörrarna till caféet\n9.45 senast ankomst\n10.03 startar krysset\n\n\n\nIngen föranmälan.\nIngen avgift förutom det du köper i caféet.\n\n\n\nVälkommen hit!
URL:https://gamlakraftstationen.se/evenemang/melodikrysset-27-september/
LOCATION:Gamla Kraftstationen\, Bruksvägen 10E\, Deje\, 66932\, Sverige
CATEGORIES:Event
ATTACH;FMTTYPE=image/png:https://gamlakraftstationen.se/wp-content/uploads/2025/05/Melodikrysset-pa-Gamla-Kraftstationen-sommaren-2025.png
ORGANIZER;CN="Gamla Kraftstationen":MAILTO:info@gamlakraftstationen.se
END:VEVENT
BEGIN:VEVENT
DTSTART;TZID=Europe/Paris:20250927T190000
DTEND;TZID=Europe/Paris:20250927T203000
DTSTAMP:20260424T005020
CREATED:20250902T101047Z
LAST-MODIFIED:20250902T101047Z
UID:13136-1758999600-1759005000@gamlakraftstationen.se
SUMMARY:Konsert 27 september: PILGRIM
DESCRIPTION:Gamla Kraftstationen proudly presents: PILGRIM \nFolkrockbandet Pilgrim är äntligen tillbaka på Gamla Kraftstationen! \nUpplev Sjutorpssviten – ett svängigt musikaliskt verk som tar publiken med på en vandring i tid och rum i Finnskogen.\nI Sjutorpssviten har varje gammal finngård längs vandringsleden Sjutorpsleden i Lekvattnet fått en musikalisk dräkt där musiken varvas med korta berättelser om gårdarna och det ofta svåra liv människorna som befolkade dem levde. \nJenny Sander\, fiol\nDaniel Falck\, gitarr\nJohan Åberg\, trummor\nRino Rotevatn\, vevlira \n🎶\nInsläpp: 19.00\nKonsertstart: 19.30\nSluttid: 20.30 (sluttiden är ungefärlig)\nEntré: 230:-\nBiljetter via Ticketmaster. Se länk nedan.\nBegränsat antal platser.\nKonserten är inomhus.\nEj numrerade platser.\nIngen åldersgräns. \n🍽\nVill du äta något?\nDå kan du boka bord från kl. 18.00.\n072-589 00 71\, bokning@gamlakraftstationen.se\nMiddag inkl. dryck: 195 kr/p.\nKvällsmacka inkl. dryck 125 kr/p\nÄven servering av kaffe och sötsaker \nKonserten ingår i konceptet\n”The Gamla Kraftstationen Music Club”\n– exklusiva konserter i unik industrimiljö
URL:https://gamlakraftstationen.se/evenemang/konsert-27-september-pilgrim/
LOCATION:Gamla Kraftstationen\, Bruksvägen 10E\, Deje\, 66932\, Sverige
CATEGORIES:Konsert
ATTACH;FMTTYPE=image/jpeg:https://gamlakraftstationen.se/wp-content/uploads/2025/09/Pilgrim-Gamla-Kraftstationen.jpg
ORGANIZER;CN="Gamla Kraftstationen":MAILTO:info@gamlakraftstationen.se
END:VEVENT
BEGIN:VEVENT
DTSTART;VALUE=DATE:20251212
DTEND;VALUE=DATE:20251215
DTSTAMP:20260424T005020
CREATED:20251124T211933Z
LAST-MODIFIED:20251208T101329Z
UID:14433-1765497600-1765756799@gamlakraftstationen.se
SUMMARY:JUL PÅ GAMLA KRAFTSTATIONEN 12-14 december
DESCRIPTION:⭐️ JUL PÅ GAMLA KRAFTSTATIONEN 12\,13 & 14 december! En stämningsfull festlighet som varar i dagarna tre. \n🕯 LUSSEAFTON & LUSSEMORGON!\n12 december Kl 18.30\n13 december Kl 08.00\nMusik\, jultexter\, solister och förstås luciatåg med Geijerskolans musikelever.\n100:-/p (gratis upp till 5 år)\nBoka plats för såväl stor som liten.\nSms till 072-589 00 71. Uppge antal personer\, önskad tid för sittning samt ev matallergi \n🕯 12/12 LUCIAPAKETET KVÄLL 225:-\n(Föreställning & The julmacka + julmust/lättöl)\nUpp till 5 år: 50:-\nSittning: kl 17.30 eller 19.30 \n🕯 13/12 LUCIAPAKETET MORGON 225:-\n(Föreställning & lussefrukost)\nUpp till 5 år: 50:-\nSittning: ca 9.00 efter föreställningen. \n🕯 OBS! Föreställningen startar i Annexet\nexakt kl. 18.30/08.00.\nJulvärdarna tar publiken vidare i programmet som fortsätter inne i den kyliga Gamla Kraftstationen. \n🧑‍🎄 TOMTAR PÅ LOFTET – traktens mysigaste julpyssel!\nLördag 13 december Kl 12-17.\nSöndag 14 december Kl 12-17.\nVåning 2 i Annexet. Alla åldrar. Drop in.\nKostnad: 40:- för de stora och 20:- för de små. \n🍭 GAMLA KRAFTSTATIONENS JULMARKNAD\nLördag Kl 12-17\nFörsäljning av konsthantverk\, konst\, mathantverk. Utställare finns i annat inlägg.\nDessutom mingelmusik och servering av mat och fika.\nJulmarknaden äger rum inne i Gamla Kraftstationen. \n📸 FOTO-FIKA MED FRIDH & KARLBERG\nSöndag Kl 13.00 och 15.00.\nLokalhistorikerna Staffan Fridh och Lars Karlberg presenterar ett knippe bilder från förr.\nTemat är vinter.\nProgrammet hålls i Annexet.\nIngen föranmälan. Bara kom! Entré 50:- \n☕️🍴 CULINARUM VINTERCAFÉ (i Annexet) serverar enklare mat och härligt adventsfika såväl lördag som söndag Kl 12-17. \n⭐️ Vi längtar efter er! Varmt välkommen!
URL:https://gamlakraftstationen.se/evenemang/jul-pa-gamla-kraftstationen/
LOCATION:Gamla Kraftstationen\, Bruksvägen 10E\, Deje\, 66932\, Sverige
CATEGORIES:Event
ATTACH;FMTTYPE=image/png:https://gamlakraftstationen.se/wp-content/uploads/2025/12/Affisch-A3.png
ORGANIZER;CN="Gamla Kraftstationen":MAILTO:info@gamlakraftstationen.se
END:VEVENT
BEGIN:VEVENT
DTSTART;TZID=Europe/Paris:20251212T183000
DTEND;TZID=Europe/Paris:20251212T193000
DTSTAMP:20260424T005020
CREATED:20251124T211659Z
LAST-MODIFIED:20251124T211659Z
UID:14428-1765564200-1765567800@gamlakraftstationen.se
SUMMARY:LUSSEAFTON 12 december 18.30
DESCRIPTION:⭐️ LUSSEAFTON & LUSSEMORGON!\n12 december Kl 18.30\n13 december Kl 08.00 \nNu är det tid att avnjuta Gamla Kraftstationens stämningsfulla tradition! Musik\, jultexter\, solister och förstås luciatåg med Geijerskolans musikelever. Ta med familjen\, grannarna och arbetskamraterna… och känn dig varmt välkommen! \n⭐️ ENTRÉ LUCIAFÖRESTÄLLNING 100:-\nUpp till 5 år gratis men plats måste bokas. \nKOMBINERA UPPLEVELSEN med The Julmacka eller en smakfull lussefrukost.\nVälj något av paketen nedan. \n⭐️ 12/12 LUCIAPAKETET KVÄLL 225:-\n(Föreställning & The julmacka + julmust/lättöl)\nUpp till 5 år: 50:-\nSittning: kl 17.30 eller 19.30 \n⭐️ 13/12 LUCIAPAKETET MORGON 225:-\n(Föreställning & lussefrukost)\nUpp till 5 år: 50:-\nSittning: ca 9.00 efter föreställningen. \n⭐️ BOKA PLATS/BORD\nSms till 072-589 00 71\nUppge antal personer\, önskad tid för sittning samt ev matallergi \n⭐️ OBS! Föreställningen startar i Annexet\nexakt kl. 18.30/08.00.\nJulvärdarna tar publiken vidare i programmet… \n⭐️ BRA ATT TÄNKA PÅ\nDet mesta av föreställningen äger rum inne i den kyliga Gamla Kraftstationen. Klä dig varmt.\nKvällsfika och frukost serveras i det varma Annexet. \nVäl mött till en minnesvärd stund!
URL:https://gamlakraftstationen.se/evenemang/lusseafton-12-december/
LOCATION:Gamla Kraftstationen\, Bruksvägen 10E\, Deje\, 66932\, Sverige
CATEGORIES:Konsert
ATTACH;FMTTYPE=image/png:https://gamlakraftstationen.se/wp-content/uploads/2025/11/Lucia.png
ORGANIZER;CN="Gamla Kraftstationen":MAILTO:info@gamlakraftstationen.se
END:VEVENT
BEGIN:VEVENT
DTSTART;VALUE=DATE:20251213
DTEND;VALUE=DATE:20251215
DTSTAMP:20260424T005020
CREATED:20251126T121156Z
LAST-MODIFIED:20251126T121156Z
UID:14465-1765584000-1765756799@gamlakraftstationen.se
SUMMARY:Tomtar på loftet 13 & 14 december
DESCRIPTION:TOMTAR PÅ LOFTET välkomnar till traktens mysigaste julpyssel!\nLördag och söndag 13 & 14 december Kl 12-17.\n\n\n\n KOM OCH JULPYSSLA Makerstation kollektiv ateljé.\nVåning 2 i Annexet.\nAlla åldrar. Drop in.\nKostnad: 40:- för de stora och 20:- för de små.\n\n\n\n VARMT VÄLKOMMEN hälsar tomtarna Lena\, Gullwi\, Jeanette\, Per-Inge\, m.fl.
URL:https://gamlakraftstationen.se/evenemang/tomtar-pa-loftet/
LOCATION:Gamla Kraftstationen\, Bruksvägen 10E\, Deje\, 66932\, Sverige
CATEGORIES:Workshop
ATTACH;FMTTYPE=image/png:https://gamlakraftstationen.se/wp-content/uploads/2025/11/Tomtar-pa-loftet.png
ORGANIZER;CN="Gamla Kraftstationen":MAILTO:info@gamlakraftstationen.se
END:VEVENT
BEGIN:VEVENT
DTSTART;TZID=Europe/Paris:20251213T080000
DTEND;TZID=Europe/Paris:20251213T090000
DTSTAMP:20260424T005020
CREATED:20251124T211735Z
LAST-MODIFIED:20251124T211735Z
UID:14431-1765612800-1765616400@gamlakraftstationen.se
SUMMARY:LUSSEMORGON 13 december
DESCRIPTION:⭐️ LUSSEAFTON & LUSSEMORGON!\n12 december Kl 18.30\n13 december Kl 08.00 \nNu är det tid att avnjuta Gamla Kraftstationens stämningsfulla tradition! Musik\, jultexter\, solister och förstås luciatåg med Geijerskolans musikelever. Ta med familjen\, grannarna och arbetskamraterna… och känn dig varmt välkommen! \n⭐️ ENTRÉ LUCIAFÖRESTÄLLNING 100:-\nUpp till 5 år gratis men plats måste bokas. \nKOMBINERA UPPLEVELSEN med The Julmacka eller en smakfull lussefrukost.\nVälj något av paketen nedan. \n⭐️ 12/12 LUCIAPAKETET KVÄLL 225:-\n(Föreställning & The julmacka + julmust/lättöl)\nUpp till 5 år: 50:-\nSittning: kl 17.30 eller 19.30 \n⭐️ 13/12 LUCIAPAKETET MORGON 225:-\n(Föreställning & lussefrukost)\nUpp till 5 år: 50:-\nSittning: ca 9.00 efter föreställningen. \n⭐️ BOKA PLATS/BORD\nSms till 072-589 00 71\nUppge antal personer\, önskad tid för sittning samt ev matallergi \n⭐️ OBS! Föreställningen startar i Annexet\nexakt kl. 18.30/08.00.\nJulvärdarna tar publiken vidare i programmet… \n⭐️ BRA ATT TÄNKA PÅ\nDet mesta av föreställningen äger rum inne i den kyliga Gamla Kraftstationen. Klä dig varmt.\nKvällsfika och frukost serveras i det varma Annexet. \nVäl mött till en minnesvärd stund!
URL:https://gamlakraftstationen.se/evenemang/lussemorgon-13-december/
LOCATION:Gamla Kraftstationen\, Bruksvägen 10E\, Deje\, 66932\, Sverige
CATEGORIES:Konsert
ATTACH;FMTTYPE=image/png:https://gamlakraftstationen.se/wp-content/uploads/2025/11/Lucia.png
ORGANIZER;CN="Gamla Kraftstationen":MAILTO:info@gamlakraftstationen.se
END:VEVENT
BEGIN:VEVENT
DTSTART;TZID=Europe/Paris:20251213T100000
DTEND;TZID=Europe/Paris:20251213T110000
DTSTAMP:20260424T005020
CREATED:20251203T140817Z
LAST-MODIFIED:20251203T140817Z
UID:14575-1765620000-1765623600@gamlakraftstationen.se
SUMMARY:Melodikrysset 13 december
DESCRIPTION:MELODIKRYSSET och GOMORRON!\n\nBörja lördagen med en härlig frukostfika och Melodikrysset hos oss.\nRadion står på och du löser ditt kryss i din mobilapp eller på kryssplaner som finns att få på plats.\n\n\n\n9.00 öppnar vi dörrarna till caféet\n9.45 senast ankomst\n10.03 startar krysset\n\n\n\nIngen föranmälan.\nIngen avgift förutom det du köper i caféet.\n\n\n\nVälkommen hit!
URL:https://gamlakraftstationen.se/evenemang/melodikrysset-13-december/
LOCATION:Gamla Kraftstationen\, Bruksvägen 10E\, Deje\, 66932\, Sverige
CATEGORIES:Event
ATTACH;FMTTYPE=image/png:https://gamlakraftstationen.se/wp-content/uploads/2025/05/Melodikrysset-pa-Gamla-Kraftstationen-sommaren-2025.png
ORGANIZER;CN="Gamla Kraftstationen":MAILTO:info@gamlakraftstationen.se
END:VEVENT
BEGIN:VEVENT
DTSTART;TZID=Europe/Paris:20251213T120000
DTEND;TZID=Europe/Paris:20251213T170000
DTSTAMP:20260424T005020
CREATED:20251202T095235Z
LAST-MODIFIED:20251202T095836Z
UID:14548-1765627200-1765645200@gamlakraftstationen.se
SUMMARY:Julmarknad 13 december
DESCRIPTION:GAMLA KRAFTSTATIONENS JULMARKNAD\n13 december kl 12-17.\n\nVälkommen att botanisera bland konsthantverk\, mathantverk\, konst och tombolalotteri. Här finns massor av finfina julklappar! Dessutom mingelmusik av olika musikanter av och till under dagen. Lägg till försäljning av granrisbockar\, julgranar och möjligheten att avnjuta en smakfull fika eller varför inte en enklare lunch och du har en stämningsfull\, julmysig marknad – på kraftstationsvis att se fram emot! Hoppas vi ses!\n\n\n\nSamtliga utställare presenteras inom kort.
URL:https://gamlakraftstationen.se/evenemang/julmarknad-13-december/
LOCATION:Gamla Kraftstationen\, Bruksvägen 10E\, Deje\, 66932\, Sverige
CATEGORIES:Event
ATTACH;FMTTYPE=image/png:https://gamlakraftstationen.se/wp-content/uploads/2025/12/Julmarknad-pa-Gamla-Kraftstationen.png
ORGANIZER;CN="Gamla Kraftstationen":MAILTO:info@gamlakraftstationen.se
END:VEVENT
BEGIN:VEVENT
DTSTART;VALUE=DATE:20251214
DTEND;VALUE=DATE:20251215
DTSTAMP:20260424T005020
CREATED:20251126T120927Z
LAST-MODIFIED:20251126T120927Z
UID:14462-1765670400-1765756799@gamlakraftstationen.se
SUMMARY:FOTO-FIKA med Fridh & Karlberg 14 december
DESCRIPTION:FOTO-FIKA med FRIDH & KARLBERG\nTema: Vinter\nSöndag 14 december\nTvå sittningar: Kl. 13 & 15\n\n\n\n PÅ BEGÄRAN är nu lokalhistorikerna Staffan Fridh och Lars Karlberg återigen på plats! Den här gången med ett knippe bilder från förr på temat vinter.\n\n\n\n KOSTNAD 50:-/p. Betalas vid ankomst. Ingen föranmälan. Program och servering i Gamla Kraftstationens annex.\n\n\n\nÄTA & DRICKA kan du göra hos oss! Adventsfika och enklare mat serveras kl. 12-17.\n\n\n\n DESSUTOM mingelmusik då och då under dagen! Ta även chansen att julpyssla med Tomtar på loftet Kl 12-17.
URL:https://gamlakraftstationen.se/evenemang/foto-fika-med-fridh-karlberg-14-december/
LOCATION:Gamla Kraftstationen\, Bruksvägen 10E\, Deje\, 66932\, Sverige
CATEGORIES:Event
ATTACH;FMTTYPE=image/png:https://gamlakraftstationen.se/wp-content/uploads/2025/11/Fotofika-med-Fridh-Karlberg-14-december.png
ORGANIZER;CN="Gamla Kraftstationen":MAILTO:info@gamlakraftstationen.se
END:VEVENT
END:VCALENDAR