BEGIN:VCALENDAR
VERSION:2.0
PRODID:-//Gamla Kraftstationen i Deje - ECPv6.11.0.1//NONSGML v1.0//EN
CALSCALE:GREGORIAN
METHOD:PUBLISH
X-ORIGINAL-URL:https://gamlakraftstationen.se
X-WR-CALDESC:Händelser för Gamla Kraftstationen i Deje
REFRESH-INTERVAL;VALUE=DURATION:PT1H
X-Robots-Tag:noindex
X-PUBLISHED-TTL:PT1H
BEGIN:VTIMEZONE
TZID:Europe/Paris
BEGIN:DAYLIGHT
TZOFFSETFROM:+0100
TZOFFSETTO:+0200
TZNAME:CEST
DTSTART:20240331T010000
END:DAYLIGHT
BEGIN:STANDARD
TZOFFSETFROM:+0200
TZOFFSETTO:+0100
TZNAME:CET
DTSTART:20241027T010000
END:STANDARD
END:VTIMEZONE
BEGIN:VEVENT
DTSTART;VALUE=DATE:20240830
DTEND;VALUE=DATE:20240902
DTSTAMP:20260422T171230
CREATED:20240612T113300Z
LAST-MODIFIED:20240831T051149Z
UID:8111-1724976000-1725235199@gamlakraftstationen.se
SUMMARY:Ateljé Artists in action: Ingela Johansson
DESCRIPTION:Välkomna till ateljé Artists in Action! \nHär kan du som besökare uppleva konstnärer i arbete. \nDå och då kan du även möta arbetande konstnärer i ateljé Makerstation\, den kollektiva ateljén. \nMöt Ingela Johansson i ateljén Artists in action 30 aug – 1 sept kl 11-16. \n  \nMISSA INTE! Lördag 31 augusti arrangerar Ingela workshop i kaffemåleri. Kl. 14-15. Ingen förkunskap krävs. 220:- inkl. material. Drop in.\n  \nIngela Johansson är en konstnär från Karlstad som hittat hem till Värmland efter sju år i Asien. \nJag har haft turen att ha utställningar och workshops i åtta länder. \nUtbildad i London och Borås\, yrkesverksam som konstnär. Min konst finns representerad i privata och offentliga samlingar bland annat på  New Zealand High Commission\, Region Värmland\, Sveriges Ambassad I Singapore och Karlstads Kommun. \nIdag arbetar hon i en studio i Karlstad\, samt en sommarstudio vid Vänern. Temat är Känsla\, färg och kopplingen till naturen.  \nHon arbetar i akryl men även blandteknik som collage och inslag av kaffe och marmor i måleriet. Varje session i studion börjar med en meditation\, så att hon kan skapa med en intuitiv nyfikenhet. \nHon är på Gamla Kraftstationen för att dela med sig\, samskapa och få ny inspiration i skapandet utifrån kreativa möten.  \n”Ju mer jag målar känslor\, desto mer inser jag att det finns ett universum kvar att upptäcka\, men att vi känner varje sekund\, minut och timme. Även när vi gör vårt bästa för att inte känna\, gör vi det ändå. Känslor ligger bakom varje enskilt beslut vi fattar och de relationer vi bygger eller bryter.” \nVälkomna!
URL:https://gamlakraftstationen.se/evenemang/atelje-artists-in-action-ingela-johansson/
LOCATION:Gamla Kraftstationen\, Bruksvägen 10E\, Deje\, 66932\, Sverige
CATEGORIES:Ateljé Artists in action
ATTACH;FMTTYPE=image/png:https://gamlakraftstationen.se/wp-content/uploads/2024/04/Artist-in-action.png
ORGANIZER;CN="Gamla Kraftstationen":MAILTO:info@gamlakraftstationen.se
END:VEVENT
BEGIN:VEVENT
DTSTART;VALUE=DATE:20240831
DTEND;VALUE=DATE:20240902
DTSTAMP:20260422T171230
CREATED:20240417T093420Z
LAST-MODIFIED:20240829T213310Z
UID:7861-1725062400-1725235199@gamlakraftstationen.se
SUMMARY:Formrundan 30 augusti - 1 september
DESCRIPTION:GAMLA KRAFTSTATIONEN är med på FORMRUNDAN VÄRMLAND 30/8-1/9. \n\n\nVi är glada för det och säger varmt välkommen hit till Gamla Kraftstationen kulturområde.\n\n\n\nHär möts konst\, form\, arkitektur och människor!\nOrdinarie utställningar pågår med Emil Österholm\, Gunnar Lidén\, Puppet\, Synnöve Orebjörk och Robin Lindström\, m. fl.\nTraktens coolaste byggnad\, den första kraftstationen i Klarälven och en av de första i landet.\n\n\n\nNy vernissage 31/8 (sneakpeak 30/8) med Conny Larsson\, mixed media och samlingsutställningen KAFFE – en smakfull konst där flera konstnärer tolkat på tema kaffe. Läs mer om kaffeutställningen här. \n\n\n\n31/8 Kaffemingel med Löfbergs som serverar olika smak- och doftprover av kaffe.\n\n\n\n31/8 kl 14-15 Workshop ”Måla med kaffe” med konstnär Ingela Johansson.\n\n\n\nUnder Formrundan visar Ville Skinnargård ett urval av sin keramik inne i Gamla Kraftstationen. Såväl bruksföremål som konstföremål.\n\n\n\nHär finns Culinarum café med härlig lunch och smakfull fika. Ekologiskt och närproducerat.\nKaffe-utställningen till ära serveras en ljuvlig chokladbakelse med mockakräm och kaffebönor.\nDessutom erbjuds förra helgens succébakelse Lusta Limone!\n\n\n\nFörtydligande av öppettiderna den här veckan är torsdag – söndag Kl 11-16.\n(Formrundan pågår fredag-söndag).\nDagentré 80:- alt. Kretskortet gäller.\nGratis upp till 20 år.\n\n\nLäs mer om formrundan här. 
URL:https://gamlakraftstationen.se/evenemang/formrundan-30-augusti-1-september/
LOCATION:Gamla Kraftstationen\, Bruksvägen 10E\, Deje\, 66932\, Sverige
CATEGORIES:Event
ATTACH;FMTTYPE=image/jpeg:https://gamlakraftstationen.se/wp-content/uploads/2024/04/Formrundan-2024.jpg
END:VEVENT
BEGIN:VEVENT
DTSTART;VALUE=DATE:20240912
DTEND;VALUE=DATE:20240916
DTSTAMP:20260422T171230
CREATED:20240422T113751Z
LAST-MODIFIED:20240912T162410Z
UID:7888-1726099200-1726444799@gamlakraftstationen.se
SUMMARY:Ateljé Artists in action: Amanda Svensson & Emelie Mikkonen
DESCRIPTION:Välkomna till ateljé Artists in Action! \nHär kan du som besökare uppleva konstnärer i arbete. \nDå och då kan du även möta arbetande konstnärer i ateljé Makerstation\, den kollektiva ateljén. \nMöt Amanda Svensson och Emelie Mikkonen i ateljén Artists in action 12 – 15 sept kl 11-16. \n  \nOm Amanda \n\nAmanda är en multimediakonstnär från Karlstad som älskar människor\noch deras känslor. Uttrycker sig dokumentärt med spår av magi; beskrivit\nNordvärmland i text & foto\, producerat & regisserat kortfilmen Drottningen\,\nmålar intuitivt och driver podden Sagor med Amanda.\n\n\n\nAmanda tillbringar tid mycket tid i skogen för att känna sig helt avslappnad. Hon jobbar tre dagar i veckan som tjänstedesigner i offentlig sektor\, ägnar mycket tid åt sin egen konst och podd och lägger flera kvällar på att dansa Lindy hop och Boogie woggie.\n\n\n\n”Jag är allt och ständigt i förändring. Leker\, skapar\, pratar\, drömmer. Leker med nuet. Ger livet en chans att vara som en film. Övar på att vara snäll mot mig själv. Byter riktning vad jag lägger min tid på.”\n\n\nHemsida: https://amandasvensson.se/sagor/ \n \nOm Emelie \n\nEmelie Mikkonen har alltid varit en kreativ själ som utforskat olika uttrycksformer. Hon beskriver hur keramiken är ett perfekt medium för att uttrycka sin passion för att skapa atmosfäriska miljöer. Emelie berättar; “Mina verk kombinerar främst väggkonst och levande ljus inspirerade av naturens flöde och mina finska rötter.”\n\n\nNyligen var Emelie aktuell som en av få utvalda på Design Talents på Formex. Design Talents är en satsning där talangfulla och oetablerade designers från Sverige och internationellt får ansöka om en plats att visa upp sig på mässan.\n\n\n\nI Atelje Artist in action hoppas Emelie på trevliga samtal med dig som besökare och hon bjuder med värme in dig att se hur hon jobbar kreativt med sin lera. Förvänta dig att se keramik med kristall-liknande ytor\, där återbrukat glas har smälts på keramiken för att frambringa unika alster.\n\n\nInstagram: e.mikkonen.design \n \nVälkomna!
URL:https://gamlakraftstationen.se/evenemang/atelje-artist-in-action-amanda-svensson/
LOCATION:Gamla Kraftstationen\, Bruksvägen 10E\, Deje\, 66932\, Sverige
CATEGORIES:Ateljé Artists in action
ATTACH;FMTTYPE=image/png:https://gamlakraftstationen.se/wp-content/uploads/2024/04/Artist-in-action.png
ORGANIZER;CN="Gamla Kraftstationen":MAILTO:info@gamlakraftstationen.se
END:VEVENT
BEGIN:VEVENT
DTSTART;VALUE=DATE:20240928
DTEND;VALUE=DATE:20240930
DTSTAMP:20260422T171230
CREATED:20240318T142709Z
LAST-MODIFIED:20240318T143009Z
UID:7473-1727481600-1727654399@gamlakraftstationen.se
SUMMARY:Smaka på Värmland 28-29 september
DESCRIPTION:Smaka på Värmland bjuder till en helg fylld av lokala upplevelser hos producenter och mathantverkare. Du kan resa runt i hela Värmland för besök hos allt från köttproducenter\, grönsaksproducenter\, gårdsbutiker\, bagerier\, musterier\, caféer och mycket annat. \nMer information kommer.
URL:https://gamlakraftstationen.se/evenemang/7473/
LOCATION:Gamla Kraftstationen\, Bruksvägen 10E\, Deje\, 66932\, Sverige
CATEGORIES:Event
ATTACH;FMTTYPE=image/jpeg:https://gamlakraftstationen.se/wp-content/uploads/2024/03/Smaka-pa-Varmland-2024.jpeg
END:VEVENT
END:VCALENDAR