BEGIN:VCALENDAR
VERSION:2.0
PRODID:-//Gamla Kraftstationen i Deje - ECPv6.11.0.1//NONSGML v1.0//EN
CALSCALE:GREGORIAN
METHOD:PUBLISH
X-ORIGINAL-URL:https://gamlakraftstationen.se
X-WR-CALDESC:Händelser för Gamla Kraftstationen i Deje
REFRESH-INTERVAL;VALUE=DURATION:PT1H
X-Robots-Tag:noindex
X-PUBLISHED-TTL:PT1H
BEGIN:VTIMEZONE
TZID:Europe/Paris
BEGIN:DAYLIGHT
TZOFFSETFROM:+0100
TZOFFSETTO:+0200
TZNAME:CEST
DTSTART:20250330T010000
END:DAYLIGHT
BEGIN:STANDARD
TZOFFSETFROM:+0200
TZOFFSETTO:+0100
TZNAME:CET
DTSTART:20251026T010000
END:STANDARD
END:VTIMEZONE
BEGIN:VEVENT
DTSTART;TZID=Europe/Paris:20250405T100000
DTEND;TZID=Europe/Paris:20250405T110000
DTSTAMP:20260423T072102
CREATED:20250303T113125Z
LAST-MODIFIED:20250303T113210Z
UID:9248-1743847200-1743850800@gamlakraftstationen.se
SUMMARY:Melodikrysset 5 april
DESCRIPTION:MELODIKRYSSET och GOMORRON!\n\nBörja lördagen med en härlig frukostfika och Melodikrysset i Vintercaféet hos oss. Radion står på och du löser ditt kryss i din mobilapp eller på kryssplaner som finns att få på plats.\n\n\n\n9.00 öppnar vi dörrarna till caféet\n9.45 senast ankomst\n10.03 startar krysset\n\n\n\nIngen föranmälan.\nIngen avgift förutom det du köper i caféet.\n\n\n\nVälkommen hit!
URL:https://gamlakraftstationen.se/evenemang/melodikrysset-5-april/
LOCATION:Gamla Kraftstationen\, Bruksvägen 10E\, Deje\, 66932\, Sverige
CATEGORIES:Event
ATTACH;FMTTYPE=image/png:https://gamlakraftstationen.se/wp-content/uploads/2024/11/Melodikrysset-pa-Gamla-Kraftstationen.png
ORGANIZER;CN="Gamla Kraftstationen":MAILTO:info@gamlakraftstationen.se
END:VEVENT
BEGIN:VEVENT
DTSTART;TZID=Europe/Paris:20250411T100000
DTEND;TZID=Europe/Paris:20250411T120000
DTSTAMP:20260423T072102
CREATED:20250318T103344Z
LAST-MODIFIED:20250318T103344Z
UID:9282-1744365600-1744372800@gamlakraftstationen.se
SUMMARY:FOTO-FIKA med Fridh & Karlberg 11 april: tema 60-talets Deje
DESCRIPTION:Välkommen på prat\, töling och identifiering av foton från förr. Lokalhistorikerna Fridh & Karlberg är på plats med ett knippe Dejebilder från 60-talet. \nTa gärna med egna album med gamla foton. \nDrop in mellan kl 10-12. Ingen kostnad förutom det fika du väljer att köpa. Här finns frukostmackor\, semlor och andra god bakverk. \nFredar öppet kl 08-15. Lunch serveras från kl 11.30.
URL:https://gamlakraftstationen.se/evenemang/foto-fika-med-fridh-karlberg-11-april-tema-60-talets-deje/
LOCATION:Gamla Kraftstationen\, Bruksvägen 10E\, Deje\, 66932\, Sverige
CATEGORIES:Event
ATTACH;FMTTYPE=image/png:https://gamlakraftstationen.se/wp-content/uploads/2025/03/Fotofika-med-Fridh-Karlberg-11-april.png
ORGANIZER;CN="Gamla Kraftstationen":MAILTO:info@gamlakraftstationen.se
END:VEVENT
BEGIN:VEVENT
DTSTART;TZID=Europe/Paris:20250412T093000
DTEND;TZID=Europe/Paris:20250412T173000
DTSTAMP:20260423T072102
CREATED:20250220T141846Z
LAST-MODIFIED:20250318T143458Z
UID:9211-1744450200-1744479000@gamlakraftstationen.se
SUMMARY:Spelslöjdsfestivalen Värmland 12 april
DESCRIPTION:12 april välkomnar vi Spelslöjdsfestivalen Värmland på plats hos oss på Gamla Kraftstationen. \nAnmälan är öppen och du gör det hos arrangören direkt hos: https://www.thegreatjourney.se/gamecraftfestival senast 28 mars. \n\nNär? Lördag 12 april 2025\, kl. 9.30–17.30 \nVar? Gamla Kraftstationen\, Deje\, Forshaga kommun \nSista anmälningsdag är fredagen den 28 mars \nSpelslöjdsfestivalen Värmland är en heldagsfestival där spelkultur möter slöjd. Festivalen är ett kostnadsfritt event som riktar sig till deltagare 15–35 år och välkomnar både nybörjare och erfarna kreatörer. \n\n\nDelta i kreativa workshops \n\n\nSkapa spelkaraktärer och bygg brädspel \n\n\nTräffa kunniga handledare och fördjupa dig i olika konstnärliga tekniker och skapandeprocesser \n\n\nFestivalen är främst för dig som är 15–35 år\, och platserna går i första hand till denna åldersgrupp. Om du är äldre eller yngre och vill delta\, kan du anmäla ditt intresse till Moa Johansson\, via mejl på moa@thegreatjourney.se. Om det finns lediga platser kan vi erbjuda dig en plats. \n\nFlyer Spelslödsfestivalen
URL:https://gamlakraftstationen.se/evenemang/spelslojdsfestivalen-varmland-12-april/
LOCATION:Gamla Kraftstationen\, Bruksvägen 10E\, Deje\, 66932\, Sverige
CATEGORIES:Event
ATTACH;FMTTYPE=image/png:https://gamlakraftstationen.se/wp-content/uploads/2025/02/Spelslojdsfestivalen-Instagram.png
END:VEVENT
END:VCALENDAR