BEGIN:VCALENDAR
VERSION:2.0
PRODID:-//Gamla Kraftstationen i Deje - ECPv6.11.0.1//NONSGML v1.0//EN
CALSCALE:GREGORIAN
METHOD:PUBLISH
X-ORIGINAL-URL:https://gamlakraftstationen.se
X-WR-CALDESC:Händelser för Gamla Kraftstationen i Deje
REFRESH-INTERVAL;VALUE=DURATION:PT1H
X-Robots-Tag:noindex
X-PUBLISHED-TTL:PT1H
BEGIN:VTIMEZONE
TZID:Europe/Paris
BEGIN:DAYLIGHT
TZOFFSETFROM:+0100
TZOFFSETTO:+0200
TZNAME:CEST
DTSTART:20250330T010000
END:DAYLIGHT
BEGIN:STANDARD
TZOFFSETFROM:+0200
TZOFFSETTO:+0100
TZNAME:CET
DTSTART:20251026T010000
END:STANDARD
END:VTIMEZONE
BEGIN:VEVENT
DTSTART;TZID=Europe/Paris:20250705T100000
DTEND;TZID=Europe/Paris:20250705T110000
DTSTAMP:20260423T165706
CREATED:20250703T102124Z
LAST-MODIFIED:20250703T102124Z
UID:12083-1751709600-1751713200@gamlakraftstationen.se
SUMMARY:Melodikrysset 5 juli
DESCRIPTION:MELODIKRYSSET och GOMORRON!\n\nBörja lördagen med en härlig frukostfika och Melodikrysset hos oss.\nRadion står på och du löser ditt kryss i din mobilapp eller på kryssplaner som finns att få på plats.\n\n\n\n9.00 öppnar vi dörrarna till caféet\n9.45 senast ankomst\n10.03 startar krysset\n\n\n\nIngen föranmälan.\nIngen avgift förutom det du köper i caféet.\n\n\n\nVälkommen hit!
URL:https://gamlakraftstationen.se/evenemang/melodikrysset-5-juli/
LOCATION:Gamla Kraftstationen\, Bruksvägen 10E\, Deje\, 66932\, Sverige
CATEGORIES:Event
ATTACH;FMTTYPE=image/png:https://gamlakraftstationen.se/wp-content/uploads/2025/05/Melodikrysset-pa-Gamla-Kraftstationen-sommaren-2025.png
ORGANIZER;CN="Gamla Kraftstationen":MAILTO:info@gamlakraftstationen.se
END:VEVENT
BEGIN:VEVENT
DTSTART;TZID=Europe/Paris:20250705T110000
DTEND;TZID=Europe/Paris:20250705T160000
DTSTAMP:20260423T165706
CREATED:20250416T095815Z
LAST-MODIFIED:20250630T092223Z
UID:10316-1751713200-1751731200@gamlakraftstationen.se
SUMMARY:Vernissage no.3. 5 juli
DESCRIPTION:Välkommen till säsongens tredje vernissage.\n5 juli kl 11-16.\nUtställare på plats\, mingelmusik med snittar och dryck serveras\, café öppet för lunch\, fika och glass. \n  \nVi välkomnar nya utställare:\nAndreas Varro 5 juli – 28 september \nChantal Guyot 5 juli – 31 juli \nHåkan Gidebratt 5 juli – 31 augusti \nMia Jansson 5 juli – 31 juli \n  \nLäs mer om årets utställning här
URL:https://gamlakraftstationen.se/evenemang/vernissage-no-3-5-juli/
LOCATION:Gamla Kraftstationen\, Bruksvägen 10E\, Deje\, 66932\, Sverige
CATEGORIES:Vernissage
ATTACH;FMTTYPE=image/png:https://gamlakraftstationen.se/wp-content/uploads/2025/04/Vernissage-Gamla-Kraftstationen-5-juli.png
ORGANIZER;CN="Gamla Kraftstationen":MAILTO:info@gamlakraftstationen.se
END:VEVENT
BEGIN:VEVENT
DTSTART;VALUE=DATE:20250708
DTEND;VALUE=DATE:20250714
DTSTAMP:20260423T165706
CREATED:20240706T150440Z
LAST-MODIFIED:20250703T091042Z
UID:8231-1751932800-1752451199@gamlakraftstationen.se
SUMMARY:Ateljé Artists in action: Catrin Schmeer
DESCRIPTION:Succén med ateljé Artists in Action fortsätter! \nHär kan du som besökare uppleva konstnärer i arbete. \nDå och då kan du även möta arbetande konstnärer i den kollektiva ateljén Makerstation. \nMöt Catrin Schmeer i ateljén Artists in action tisdag-söndag 8 – 13 augusti kl 11-16. Catrin delar ateljén med Mia Jansson. \n\n\n\n\n\n”Jag ser mig själv som en upptäckare som samlar skatter med min kameran” Catrin Schmeers utforskar naturens magi med särskilt fokus på den nordiska floran och faunan. Verken är digitala fotokollage av egna foton som sätts ihop till drömska scener där naturen kan få en känsla av en mäktig katedral och en saga gömmer sig i snåren. Inspirationen kommer från djupa skogar och mörka tjärn \,folksagor och historika ornament  som kurbits och art nouveau.   \nCatrin är utbildad i traditionell grafik vid Grafikskolan i Stockholm och har arbetat som illustratör och mönsterformgivare inom textil- och modebranschen. Under 2025 utvecklar hon ett konstprojekt vid Konstfack med titeln ”Ett löv som växer på planeten Jorden” som undersöker likheter i kulturer genom mönster inspirerad av naturen. \nPå plats i ateljén visar Catrin digital fotokollage med fokus på skogen\, sagor och drömska landskap där naturens mönster och symboler väcks till liv. \n\n\n\n\n\n\nwww.eyeonthejourney.se\n@eyeonthejourney\n\n\nVälkomna!
URL:https://gamlakraftstationen.se/evenemang/atelje-artists-in-action-catrin-schmeer/
LOCATION:Gamla Kraftstationen\, Bruksvägen 10E\, Deje\, 66932\, Sverige
CATEGORIES:Ateljé Artists in action
ATTACH;FMTTYPE=image/jpeg:https://gamlakraftstationen.se/wp-content/uploads/2024/07/Catrin-Schmeer-Artists-in-action.jpg
ORGANIZER;CN="Gamla Kraftstationen":MAILTO:info@gamlakraftstationen.se
END:VEVENT
BEGIN:VEVENT
DTSTART;VALUE=DATE:20250708
DTEND;VALUE=DATE:20250714
DTSTAMP:20260423T165706
CREATED:20240612T113017Z
LAST-MODIFIED:20250630T103724Z
UID:8106-1751932800-1752451199@gamlakraftstationen.se
SUMMARY:Ateljé Artists in action: Mia Jansson
DESCRIPTION:Succén med ateljé Artists in Action fortsätter! \nHär kan du som besökare uppleva konstnärer i arbete. \nDå och då kan du även möta arbetande konstnärer i den kollektiva ateljén Makerstation. \nMöt Mia Jansson i ateljén Artists in action tisdag-söndag 8 – 13 juli kl 11-16. Mia delar ateljén tillsammans med Catrin Schmeer. \n\n Mia skapar\, skulpterar och glaserar nya glada och pigga Nöjdingar\, kanske även en och annan som är lite bister och uppkäftig också.\n\n\n\n Varje dag ca. kl 13.00 kommer det vara en livbränning där du som besökare kan ta del av den spännande bränningsprocessen.\n\n\n\n Mia berättar:\n”Att bränna live och möta publiken är fantastiskt roligt och ger ny energi åt skapandet. Välkommen att titta in till mig!”\n\n\n\n Kort om Mia:\nMia Jansson – Skapare av den positiva och glada Nöjdingen bor ute på landet utanför Molkom men växte upp i Ransäter där hon blev inspirerad av keramiker\, sten- och bildkonstnärer som ung.\nAtt skulptera hästar och bränna i Rakuteknik har blivit det som känns allra bäst och ger ständiga aha-upplevelser. Nöjdingen har blivit hennes signum och hennes livslånga kärlek till hästar avspeglar sig i Nöjdingens charmiga framtoning och hon vill förmedla värme och lyckorus som vi alla så väl behöver i dessa oroliga tider.\n\n\nVälkomna!
URL:https://gamlakraftstationen.se/evenemang/artists-in-action-mia-jansson/
LOCATION:Gamla Kraftstationen\, Bruksvägen 10E\, Deje\, 66932\, Sverige
CATEGORIES:Ateljé Artists in action
ATTACH;FMTTYPE=image/jpeg:https://gamlakraftstationen.se/wp-content/uploads/2024/06/Mia-Jansson-Artists-in-action.jpeg
ORGANIZER;CN="Gamla Kraftstationen":MAILTO:info@gamlakraftstationen.se
END:VEVENT
BEGIN:VEVENT
DTSTART;TZID=Europe/Paris:20250712T100000
DTEND;TZID=Europe/Paris:20250712T110000
DTSTAMP:20260423T165706
CREATED:20250703T102315Z
LAST-MODIFIED:20250703T102315Z
UID:12086-1752314400-1752318000@gamlakraftstationen.se
SUMMARY:Melodikrysset 12 juli
DESCRIPTION:MELODIKRYSSET och GOMORRON!\n\nBörja lördagen med en härlig frukostfika och Melodikrysset hos oss.\nRadion står på och du löser ditt kryss i din mobilapp eller på kryssplaner som finns att få på plats.\n\n\n\n9.00 öppnar vi dörrarna till caféet\n9.45 senast ankomst\n10.03 startar krysset\n\n\n\nIngen föranmälan.\nIngen avgift förutom det du köper i caféet.\n\n\n\nVälkommen hit!
URL:https://gamlakraftstationen.se/evenemang/melodikrysset-12-juli/
LOCATION:Gamla Kraftstationen\, Bruksvägen 10E\, Deje\, 66932\, Sverige
ATTACH;FMTTYPE=image/png:https://gamlakraftstationen.se/wp-content/uploads/2025/05/Melodikrysset-pa-Gamla-Kraftstationen-sommaren-2025.png
ORGANIZER;CN="Gamla Kraftstationen":MAILTO:info@gamlakraftstationen.se
END:VEVENT
BEGIN:VEVENT
DTSTART;VALUE=DATE:20250715
DTEND;VALUE=DATE:20250721
DTSTAMP:20260423T165706
CREATED:20240612T113103Z
LAST-MODIFIED:20250705T225312Z
UID:8108-1752537600-1753055999@gamlakraftstationen.se
SUMMARY:Ateljé Artists in action: Mia Jansson
DESCRIPTION:Succén med ateljé Artists in Action fortsätter! \nHär kan du som besökare uppleva konstnärer i arbete. \nDå och då kan du även möta arbetande konstnärer i den kollektiva ateljén Makerstation. \nMöt Mia Jansson i ateljén Artists in action tisdag-söndag 15 – 20 juli kl 11-16. Mia delar ateljén tillsammans med Carolina Levén. \n\n Mia skapar\, skulpterar och glaserar nya glada och pigga Nöjdingar\, kanske även en och annan som är lite bister och uppkäftig också.\n\n\n\n Varje dag ca. kl 13.00 kommer det vara en livbränning där du som besökare kan ta del av den spännande bränningsprocessen. (OBS! Ej torsdag 17 juli)\n\n\n\n Mia berättar:\n”Att bränna live och möta publiken är fantastiskt roligt och ger ny energi åt skapandet. Välkommen att titta in till mig!”\n\n\n\n Kort om Mia:\nMia Jansson – Skapare av den positiva och glada Nöjdingen bor ute på landet utanför Molkom men växte upp i Ransäter där hon blev inspirerad av keramiker\, sten- och bildkonstnärer som ung.\nAtt skulptera hästar och bränna i Rakuteknik har blivit det som känns allra bäst och ger ständiga aha-upplevelser. Nöjdingen har blivit hennes signum och hennes livslånga kärlek till hästar avspeglar sig i Nöjdingens charmiga framtoning och hon vill förmedla värme och lyckorus som vi alla så väl behöver i dessa oroliga tider.\n\n\nVälkomna!
URL:https://gamlakraftstationen.se/evenemang/atelje-artists-in-action-mia-jansson/
LOCATION:Gamla Kraftstationen\, Bruksvägen 10E\, Deje\, 66932\, Sverige
CATEGORIES:Ateljé Artists in action
ATTACH;FMTTYPE=image/jpeg:https://gamlakraftstationen.se/wp-content/uploads/2024/06/Mia-Jansson-Artists-in-action.jpeg
ORGANIZER;CN="Gamla Kraftstationen":MAILTO:info@gamlakraftstationen.se
END:VEVENT
BEGIN:VEVENT
DTSTART;TZID=Europe/Paris:20250719T100000
DTEND;TZID=Europe/Paris:20250719T110000
DTSTAMP:20260423T165706
CREATED:20250703T102405Z
LAST-MODIFIED:20250703T102405Z
UID:12088-1752919200-1752922800@gamlakraftstationen.se
SUMMARY:Melodikrysset 19 juli
DESCRIPTION:MELODIKRYSSET och GOMORRON!\n\nBörja lördagen med en härlig frukostfika och Melodikrysset hos oss.\nRadion står på och du löser ditt kryss i din mobilapp eller på kryssplaner som finns att få på plats.\n\n\n\n9.00 öppnar vi dörrarna till caféet\n9.45 senast ankomst\n10.03 startar krysset\n\n\n\nIngen föranmälan.\nIngen avgift förutom det du köper i caféet.\n\n\n\nVälkommen hit!
URL:https://gamlakraftstationen.se/evenemang/melodikrysset-19-juli/
LOCATION:Gamla Kraftstationen\, Bruksvägen 10E\, Deje\, 66932\, Sverige
CATEGORIES:Event
ATTACH;FMTTYPE=image/png:https://gamlakraftstationen.se/wp-content/uploads/2025/05/Melodikrysset-pa-Gamla-Kraftstationen-sommaren-2025.png
ORGANIZER;CN="Gamla Kraftstationen":MAILTO:info@gamlakraftstationen.se
END:VEVENT
BEGIN:VEVENT
DTSTART;VALUE=DATE:20250722
DTEND;VALUE=DATE:20250728
DTSTAMP:20260423T165706
CREATED:20250617T114645Z
LAST-MODIFIED:20250617T114720Z
UID:11741-1753142400-1753660799@gamlakraftstationen.se
SUMMARY:Ateljé Artists in action: Lynn Hofmann
DESCRIPTION:Succén med ateljé Artists in Action fortsätter! \nHär kan du som besökare uppleva konstnärer i arbete. \nDå och då kan du även möta arbetande konstnärer i den kollektiva ateljén Makerstation. \nMöt akvarellisten Lynn Hofman i ateljén Artists in action 22 – 27 juli kl 11-16. \nLynn Hofmann är en värmländsk konstnär från Kil som kombinerar sitt konstnärskap med att jobba deltid som förskollärare. Lynn inspireras mestadels från vår svenska och nordiska natur och omgivning samt livet på landet\, jord och lantbruk. Hon fänglas av akvarellens alla spännande och utmanande tekniker och de otroligt många\, vackra\, häftiga och dramatiska effekter man kan åstadkomma.  \nI Lynns akvareller vill hon förmedla en varm känsla\, harmoni och det perfekta ljuset som lyfter motivet.  \n– När betraktaren fångas av detta känner jag att jag har lyckats\, säger Lynn.  \nLynn har sedan några år tillbaka ställt ut på olika konstmässor\, konstrundor och gallerier i SVerige\, både separatutställning samt tillsammans med andra. Sommaren 2023 var hon en av utställarna här på Gamla Kraftstationen.  \n– Jag ser fram emot att träffa er igen i sommar och välkomnar er att kika in hos mig i ateljén Artists in Action. Jag berättar gärna mer om mitt konstnärskap\, mina material och tekniker samt visar akvareller och fine art print och lite annat smått och gott. Vi ses! \nLäs mer och Lynn på hennes egna kanaler: \nhttp://www.lynnsakvareller.se \nhttps://www.facebook.com/lynnsakvareller \nhttps://www.instagram.com/lynnsakvareller
URL:https://gamlakraftstationen.se/evenemang/atelje-artists-in-action-lynn-hofmann/
LOCATION:Gamla Kraftstationen\, Bruksvägen 10E\, Deje\, 66932\, Sverige
CATEGORIES:Ateljé Artists in action
ATTACH;FMTTYPE=image/jpeg:https://gamlakraftstationen.se/wp-content/uploads/2025/06/Lynn-Hofmann-Artists-in-action-Gamla-Kraftstationen.jpeg
ORGANIZER;CN="Gamla Kraftstationen":MAILTO:info@gamlakraftstationen.se
END:VEVENT
BEGIN:VEVENT
DTSTART;TZID=Europe/Paris:20250724T190000
DTEND;TZID=Europe/Paris:20250724T210000
DTSTAMP:20260423T165706
CREATED:20250624T094841Z
LAST-MODIFIED:20250624T094841Z
UID:11870-1753383600-1753390800@gamlakraftstationen.se
SUMMARY:Exklusiv konsert 24 juli: MÔRAPER
DESCRIPTION:Gamla Kraftstationen proudly presents MÔRAPER \n\nDatum: 24 juli kl. 19.00\n\n\n\nAsfalt möter granskog – ett värmländskt perspektiv på landet utanför tullarna. Môraper fångar gammal som ung med stark energi och ett låtmaterial som sträcker sig från irländskt röj till smäktande kärleksballader. Akustiskt möter elektriskt – finstämt möter råa tongångar. Häng med på en kväll i folkrockens anda. \n\nInsläpp: 18.30 \nKonsertstart: 19.00 \nSluttid: 21.00 inkluderar paus (sluttiden är ungefärlig) \nEntré: 300: – exkl. serviceavg. \nBegränsat antal platser. \nKonserten är inomhus. \nEj numrerade platser. \nIngen åldersgräns. \nBoka biljett här: https://www.ticketmaster.se/event/1226286742 \n  \nVill du äta något? Då kan du boka bord från kl. 17.30. \nMiddag inkl dryck: 195 kr/p. Serveras före konserten\, från kl. 17.30. \n072-589 00 71\, info@gamlakraftstationen.se \nVi erbjuder även pausfika. Kvällsmacka inkl dryck: 125 kr/p. Serveras i pausen. \n  \nKonserten ingår i konceptet\n”The Gamla Kraftstationen Music Club”\n– exklusiva konserter i unik industrimiljö \nwww.gamlakraftstationen.se
URL:https://gamlakraftstationen.se/evenemang/moraper-24juli/
LOCATION:Gamla Kraftstationen\, Bruksvägen 10E\, Deje\, 66932\, Sverige
CATEGORIES:Konsert
ATTACH;FMTTYPE=image/jpeg:https://gamlakraftstationen.se/wp-content/uploads/2025/06/Mora-Per.jpg
ORGANIZER;CN="Gamla Kraftstationen":MAILTO:info@gamlakraftstationen.se
END:VEVENT
BEGIN:VEVENT
DTSTART;TZID=Europe/Paris:20250726T100000
DTEND;TZID=Europe/Paris:20250726T110000
DTSTAMP:20260423T165706
CREATED:20250703T102449Z
LAST-MODIFIED:20250703T102449Z
UID:12090-1753524000-1753527600@gamlakraftstationen.se
SUMMARY:Melodikrysset 26 juli
DESCRIPTION:MELODIKRYSSET och GOMORRON!\n\nBörja lördagen med en härlig frukostfika och Melodikrysset hos oss.\nRadion står på och du löser ditt kryss i din mobilapp eller på kryssplaner som finns att få på plats.\n\n\n\n9.00 öppnar vi dörrarna till caféet\n9.45 senast ankomst\n10.03 startar krysset\n\n\n\nIngen föranmälan.\nIngen avgift förutom det du köper i caféet.\n\n\n\nVälkommen hit!
URL:https://gamlakraftstationen.se/evenemang/melodikrysset-26-juli/
LOCATION:Gamla Kraftstationen\, Bruksvägen 10E\, Deje\, 66932\, Sverige
CATEGORIES:Event
ATTACH;FMTTYPE=image/png:https://gamlakraftstationen.se/wp-content/uploads/2025/05/Melodikrysset-pa-Gamla-Kraftstationen-sommaren-2025.png
ORGANIZER;CN="Gamla Kraftstationen":MAILTO:info@gamlakraftstationen.se
END:VEVENT
BEGIN:VEVENT
DTSTART;VALUE=DATE:20250729
DTEND;VALUE=DATE:20250804
DTSTAMP:20260423T165706
CREATED:20240706T150135Z
LAST-MODIFIED:20250630T104051Z
UID:8229-1753747200-1754265599@gamlakraftstationen.se
SUMMARY:Ateljé Artists in action: Carolina Levén
DESCRIPTION:Succén med ateljé Artists in Action fortsätter! \nHär kan du som besökare uppleva konstnärer i arbete. \nDå och då kan du även möta arbetande konstnärer i ateljé Makerstation\, den kollektiva ateljén. \nMöt Carolina Levén i ateljén Artists in action tisdag – söndag 29 juli – 3 augusti kl 11-16. \n\nCarolina Levén är konstnären som älskar blommor\, katter\, kaffe och att resa.\nUnder sina resor inspireras hon av det vackra i naturen och speciellt blommor med magiska färgpaletter och vackra former.\n\n\nCarolina deltar regelbundet på utställningar och har bland annat ställt ut runt om i Sverige och världen.\n\n\n\nCarolina målar framförallt i akryl och ofta är målningarna i stora format. Ibland använder hon sig av tekniken Fluid Art där färgerna flyter fritt och målningen skapas på en och samma dag. Men även målningar med mer traditionellt måleri kommer att visas när Carolina intar Ateljé Artist in action. Förbered dig på färgstark konst med inspiration från Värmland\, Barcelona\, Australien och Bali.\n\n\nVälkomna! \n \n 
URL:https://gamlakraftstationen.se/evenemang/atelje-artists-in-action-carolina-leven-2/
LOCATION:Gamla Kraftstationen\, Bruksvägen 10E\, Deje\, 66932\, Sverige
CATEGORIES:Ateljé Artists in action
ATTACH;FMTTYPE=image/jpeg:https://gamlakraftstationen.se/wp-content/uploads/2025/03/Carolia-Leven-Gamla-Kraftstationen-scaled.jpeg
ORGANIZER;CN="Gamla Kraftstationen":MAILTO:info@gamlakraftstationen.se
END:VEVENT
BEGIN:VEVENT
DTSTART;TZID=Europe/Paris:20250731T130000
DTEND;TZID=Europe/Paris:20250731T160000
DTSTAMP:20260423T165706
CREATED:20240313T130146Z
LAST-MODIFIED:20250729T151159Z
UID:7442-1753966800-1753977600@gamlakraftstationen.se
SUMMARY:Världsbroderidagen 31 juli
DESCRIPTION:Drop in WORKSHOP I FRITT BRODERI 31 juli kl 13-16 \nVälkommen att delta i en workshop i fritt broderi. Titta på eller anslut dig till gemenskapen och prova själv.  \nLedare: Täcklebo Broderiakademi\, Karlstadgruppen. Britta Stolpe och Gudrun Midebo. \nKostnad: Ingen avgift. Det finns gratis prova-på-material. Om du har eget broderimaterial får du självklart ta med det. \nÅlder: För både vuxna och barn. \nIngen åldersgräns\, men barn under 10 år deltar i vuxens sällskap. \n  \nTäcklebo Broderiakademi\, Karlstagruppen är en av 50 lokalgrupper  i Sverige.  \nMed nål och tråd för en bättre värld \nTäcklebo Broderiakademi är en obunden och ideell förening för den som gillar att brodera. Här finns både yrkesverksamma brodöser och nybörjare. tacklebony.wordpress.com \nKarlstadgruppen träffas 3:e torsdagen i månaden kl 18-21 hos Studieförbundet Bilda\, Drottninggatan 40\, Karlstad.  \nKontaktpersoner:  \nGudrun Midebo 076-7960711  \nBritta Stolpe 072-211 20 74  \n 
URL:https://gamlakraftstationen.se/evenemang/varldsbroderidagen/
LOCATION:Gamla Kraftstationen\, Bruksvägen 10E\, Deje\, 66932\, Sverige
CATEGORIES:Workshop
ATTACH;FMTTYPE=image/jpeg:https://gamlakraftstationen.se/wp-content/uploads/2024/03/Broderi-Gamla-Kraftstationen-scaled.jpg
ORGANIZER;CN="Gamla Kraftstationen":MAILTO:info@gamlakraftstationen.se
END:VEVENT
END:VCALENDAR